BEGIN:VCALENDAR
VERSION:2.0
PRODID:-//Diari del Maestrat - ECPv6.4.0//NONSGML v1.0//EN
CALSCALE:GREGORIAN
METHOD:PUBLISH
X-WR-CALNAME:Diari del Maestrat
X-ORIGINAL-URL:https://diaridelmaestrat.com
X-WR-CALDESC:Events for Diari del Maestrat
REFRESH-INTERVAL;VALUE=DURATION:PT1H
X-Robots-Tag:noindex
X-PUBLISHED-TTL:PT1H
BEGIN:VTIMEZONE
TZID:Europe/Helsinki
BEGIN:DAYLIGHT
TZOFFSETFROM:+0200
TZOFFSETTO:+0300
TZNAME:EEST
DTSTART:20260329T010000
END:DAYLIGHT
BEGIN:STANDARD
TZOFFSETFROM:+0300
TZOFFSETTO:+0200
TZNAME:EET
DTSTART:20261025T010000
END:STANDARD
END:VTIMEZONE
BEGIN:VEVENT
DTSTART;VALUE=DATE:20260125
DTEND;VALUE=DATE:20260126
DTSTAMP:20260421T181631
CREATED:20260108T112929Z
LAST-MODIFIED:20260108T112929Z
UID:464289-1769299200-1769385599@diaridelmaestrat.com
SUMMARY:Peníscola - Sant Antoni - Benedicció dels animals
DESCRIPTION:10.30h – Concentració en la plaça de Sant Isidre de tots els participants amb les cavalleries\, per desplaçar-se fins l’església parroquial de Santa Maria.\n11.00h – Santa missa en la parròquia de Santa Maria.\n\nEn acabar – Benedicció dels animals\, sorteig de la rifa i repartiment dels rotllets típics en la plaça de Santa Maria. \n\n15.30h – Dinar de germanor.
URL:https://diaridelmaestrat.com/agenda/peniscola-sant-antoni-benediccio-dels-animals/
LOCATION:Castellón
CATEGORIES:Festes,PENÍSCOLA
END:VEVENT
BEGIN:VEVENT
DTSTART;TZID=Europe/Helsinki:20260125T120000
DTEND;TZID=Europe/Helsinki:20260125T130000
DTSTAMP:20260421T181631
CREATED:20260108T124337Z
LAST-MODIFIED:20260108T124337Z
UID:464366-1769342400-1769346000@diaridelmaestrat.com
SUMMARY:Benicarló - Falles - Exaltació Falla El Campanar
DESCRIPTION:
URL:https://diaridelmaestrat.com/agenda/benicarlo-falles-exaltacio-falla-el-campanar/
LOCATION:Auditori Pedro Mercader\, Carrer de València\, s/n\, 12580 Benicarló\, Benicarló\, Castellón\, 12580\, España
CATEGORIES:BENICARLÓ,Falles
ATTACH;FMTTYPE=image/jpeg:https://diaridelmaestrat.com/wp-content/uploads/2026/01/B-38.jpg
END:VEVENT
END:VCALENDAR