BEGIN:VCALENDAR
VERSION:2.0
PRODID:-//Diari del Maestrat - ECPv6.4.0//NONSGML v1.0//EN
CALSCALE:GREGORIAN
METHOD:PUBLISH
X-ORIGINAL-URL:https://diaridelmaestrat.com
X-WR-CALDESC:Events for Diari del Maestrat
REFRESH-INTERVAL;VALUE=DURATION:PT1H
X-Robots-Tag:noindex
X-PUBLISHED-TTL:PT1H
BEGIN:VTIMEZONE
TZID:Europe/Helsinki
BEGIN:DAYLIGHT
TZOFFSETFROM:+0200
TZOFFSETTO:+0300
TZNAME:EEST
DTSTART:20260329T010000
END:DAYLIGHT
BEGIN:STANDARD
TZOFFSETFROM:+0300
TZOFFSETTO:+0200
TZNAME:EET
DTSTART:20261025T010000
END:STANDARD
END:VTIMEZONE
BEGIN:VEVENT
DTSTART;TZID=Europe/Helsinki:20260129T190000
DTEND;TZID=Europe/Helsinki:20260129T200000
DTSTAMP:20260421T164422
CREATED:20260108T114150Z
LAST-MODIFIED:20260108T114150Z
UID:464307-1769713200-1769716800@diaridelmaestrat.com
SUMMARY:Vinaròs - Conferència "Un Pais En Gris I Negre"
DESCRIPTION:A càrrec de Juan Luis Porcar Escorihuela
URL:https://diaridelmaestrat.com/agenda/vinaros-conferencia-un-pais-en-gris-i-negre/
LOCATION:Auditori Carles Santos\, C/Socors\, 64\, Vinaròs\, Castellón\, 12500\, España
CATEGORIES:Conferències,VINARÒS
ATTACH;FMTTYPE=image/jpeg:https://diaridelmaestrat.com/wp-content/uploads/2026/01/608893208_1346433263949426_6766964329897466273_n.jpg
END:VEVENT
END:VCALENDAR