BEGIN:VCALENDAR
VERSION:2.0
PRODID:-//Diari del Maestrat - ECPv6.4.0//NONSGML v1.0//EN
CALSCALE:GREGORIAN
METHOD:PUBLISH
X-WR-CALNAME:Diari del Maestrat
X-ORIGINAL-URL:https://diaridelmaestrat.com
X-WR-CALDESC:Events for Diari del Maestrat
REFRESH-INTERVAL;VALUE=DURATION:PT1H
X-Robots-Tag:noindex
X-PUBLISHED-TTL:PT1H
BEGIN:VTIMEZONE
TZID:Europe/Helsinki
BEGIN:DAYLIGHT
TZOFFSETFROM:+0200
TZOFFSETTO:+0300
TZNAME:EEST
DTSTART:20260329T010000
END:DAYLIGHT
BEGIN:STANDARD
TZOFFSETFROM:+0300
TZOFFSETTO:+0200
TZNAME:EET
DTSTART:20261025T010000
END:STANDARD
END:VTIMEZONE
BEGIN:VEVENT
DTSTART;TZID=Europe/Helsinki:20260207T120000
DTEND;TZID=Europe/Helsinki:20260207T130000
DTSTAMP:20260421T164425
CREATED:20260108T124654Z
LAST-MODIFIED:20260108T124654Z
UID:464374-1770465600-1770469200@diaridelmaestrat.com
SUMMARY:Benicarló - Falles - Exaltació Falla La Barraca (45è aniversari)
DESCRIPTION:
URL:https://diaridelmaestrat.com/agenda/benicarlo-falles-exaltacio-falla-la-barraca-45e-aniversari/
LOCATION:Auditori Pedro Mercader\, Carrer de València\, s/n\, 12580 Benicarló\, Benicarló\, Castellón\, 12580\, España
CATEGORIES:BENICARLÓ,Falles
ATTACH;FMTTYPE=image/jpeg:https://diaridelmaestrat.com/wp-content/uploads/2026/01/B-38.jpg
END:VEVENT
END:VCALENDAR