BEGIN:VCALENDAR
VERSION:2.0
PRODID:-//Diari del Maestrat - ECPv6.4.0//NONSGML v1.0//EN
CALSCALE:GREGORIAN
METHOD:PUBLISH
X-ORIGINAL-URL:https://diaridelmaestrat.com
X-WR-CALDESC:Events for Diari del Maestrat
REFRESH-INTERVAL;VALUE=DURATION:PT1H
X-Robots-Tag:noindex
X-PUBLISHED-TTL:PT1H
BEGIN:VTIMEZONE
TZID:Europe/Helsinki
BEGIN:DAYLIGHT
TZOFFSETFROM:+0200
TZOFFSETTO:+0300
TZNAME:EEST
DTSTART:20260329T010000
END:DAYLIGHT
BEGIN:STANDARD
TZOFFSETFROM:+0300
TZOFFSETTO:+0200
TZNAME:EET
DTSTART:20261025T010000
END:STANDARD
END:VTIMEZONE
BEGIN:VEVENT
DTSTART;TZID=Europe/Helsinki:20260221T080000
DTEND;TZID=Europe/Helsinki:20260221T170000
DTSTAMP:20260421T164423
CREATED:20260221T103141Z
LAST-MODIFIED:20260221T103141Z
UID:473561-1771660800-1771693200@diaridelmaestrat.com
SUMMARY:Benicarló - Falles - Lliurament de Premis
DESCRIPTION:Premi a la millor escenografia d’exaltació fallera \n\n\nPremi Llibret \n\n\nPremis de dibuix escolar
URL:https://diaridelmaestrat.com/agenda/benicarlo-falles-lliurament-de-premis/
LOCATION:Plaça Mestres del Temple
CATEGORIES:BENICARLÓ,Falles
ATTACH;FMTTYPE=image/jpeg:https://diaridelmaestrat.com/wp-content/uploads/2022/03/1647252446986-1.jpg
END:VEVENT
BEGIN:VEVENT
DTSTART;TZID=Europe/Helsinki:20260221T180000
DTEND;TZID=Europe/Helsinki:20260221T190000
DTSTAMP:20260421T164423
CREATED:20260108T125213Z
LAST-MODIFIED:20260108T125213Z
UID:464384-1771696800-1771700400@diaridelmaestrat.com
SUMMARY:Benicarló - Falles - Exaltació Falla Amics del Foc
DESCRIPTION:
URL:https://diaridelmaestrat.com/agenda/benicarlo-falles-exaltacio-falla-amics-del-foc/
LOCATION:Auditori Pedro Mercader\, Carrer de València\, s/n\, 12580 Benicarló\, Benicarló\, Castellón\, 12580\, España
CATEGORIES:BENICARLÓ,Falles
ATTACH;FMTTYPE=image/jpeg:https://diaridelmaestrat.com/wp-content/uploads/2026/01/B-38.jpg
END:VEVENT
END:VCALENDAR