BEGIN:VCALENDAR
VERSION:2.0
PRODID:-//Diari del Maestrat - ECPv6.4.0//NONSGML v1.0//EN
CALSCALE:GREGORIAN
METHOD:PUBLISH
X-ORIGINAL-URL:https://diaridelmaestrat.com
X-WR-CALDESC:Events for Diari del Maestrat
REFRESH-INTERVAL;VALUE=DURATION:PT1H
X-Robots-Tag:noindex
X-PUBLISHED-TTL:PT1H
BEGIN:VTIMEZONE
TZID:Europe/Helsinki
BEGIN:DAYLIGHT
TZOFFSETFROM:+0200
TZOFFSETTO:+0300
TZNAME:EEST
DTSTART:20260329T010000
END:DAYLIGHT
BEGIN:STANDARD
TZOFFSETFROM:+0300
TZOFFSETTO:+0200
TZNAME:EET
DTSTART:20261025T010000
END:STANDARD
END:VTIMEZONE
BEGIN:VEVENT
DTSTART;TZID=Europe/Helsinki:20260312T230000
DTEND;TZID=Europe/Helsinki:20260313T020000
DTSTAMP:20260421T133213
CREATED:20260221T104306Z
LAST-MODIFIED:20260221T104306Z
UID:473569-1773356400-1773367200@diaridelmaestrat.com
SUMMARY:Benicarló - Falles - Nit De La Llum
DESCRIPTION:
URL:https://diaridelmaestrat.com/agenda/benicarlo-falles-nit-de-la-llum/
LOCATION:Plaça de la Constitució de Benicarló
CATEGORIES:BENICARLÓ,Falles
ATTACH;FMTTYPE=image/jpeg:https://diaridelmaestrat.com/wp-content/uploads/2025/03/p1-25.jpg
END:VEVENT
BEGIN:VEVENT
DTSTART;TZID=Europe/Helsinki:20260313T200000
DTEND;TZID=Europe/Helsinki:20260313T220000
DTSTAMP:20260421T133213
CREATED:20260221T104613Z
LAST-MODIFIED:20260221T104613Z
UID:473571-1773432000-1773439200@diaridelmaestrat.com
SUMMARY:Benicarló - Falles - Lliurament de Premis Falles 2026
DESCRIPTION:Visita també a les Falles guanyadores
URL:https://diaridelmaestrat.com/agenda/benicarlo-falles-lliurament-de-premis-falles-2026/
LOCATION:Pavelló Municipal de Benicarló
CATEGORIES:BENICARLÓ,Falles
ATTACH;FMTTYPE=image/jpeg:https://diaridelmaestrat.com/wp-content/uploads/2023/03/mtv.jpg
END:VEVENT
END:VCALENDAR