BEGIN:VCALENDAR
VERSION:2.0
PRODID:-//Diari del Maestrat - ECPv6.4.0//NONSGML v1.0//EN
CALSCALE:GREGORIAN
METHOD:PUBLISH
X-ORIGINAL-URL:https://diaridelmaestrat.com
X-WR-CALDESC:Events for Diari del Maestrat
REFRESH-INTERVAL;VALUE=DURATION:PT1H
X-Robots-Tag:noindex
X-PUBLISHED-TTL:PT1H
BEGIN:VTIMEZONE
TZID:Europe/Helsinki
BEGIN:DAYLIGHT
TZOFFSETFROM:+0200
TZOFFSETTO:+0300
TZNAME:EEST
DTSTART:20260329T010000
END:DAYLIGHT
BEGIN:STANDARD
TZOFFSETFROM:+0300
TZOFFSETTO:+0200
TZNAME:EET
DTSTART:20261025T010000
END:STANDARD
END:VTIMEZONE
BEGIN:VEVENT
DTSTART;TZID=Europe/Helsinki:20260110T120000
DTEND;TZID=Europe/Helsinki:20260110T130000
DTSTAMP:20260422T200427
CREATED:20260108T123705Z
LAST-MODIFIED:20260108T123705Z
UID:464350-1768046400-1768050000@diaridelmaestrat.com
SUMMARY:Benicarló - Falles - Exaltació Falla El Mercat Vell.
DESCRIPTION:
URL:https://diaridelmaestrat.com/agenda/benicarlo-falles-exaltacio-falla-el-mercat-vell/
LOCATION:Auditori Pedro Mercader\, Carrer de València\, s/n\, 12580 Benicarló\, Benicarló\, Castellón\, 12580\, España
CATEGORIES:BENICARLÓ,Falles
ATTACH;FMTTYPE=image/jpeg:https://diaridelmaestrat.com/wp-content/uploads/2026/01/B-38.jpg
END:VEVENT
BEGIN:VEVENT
DTSTART;TZID=Europe/Helsinki:20260110T140000
DTEND;TZID=Europe/Helsinki:20260110T160000
DTSTAMP:20260422T200427
CREATED:20260108T122001Z
LAST-MODIFIED:20260108T122001Z
UID:464337-1768053600-1768060800@diaridelmaestrat.com
SUMMARY:Benicarló - Sant Antoni - Dinar de Germanor
DESCRIPTION:
URL:https://diaridelmaestrat.com/agenda/benicarlo-sant-antoni-dinar-de-germanor/
CATEGORIES:BENICARLÓ
ATTACH;FMTTYPE=image/jpeg:https://diaridelmaestrat.com/wp-content/uploads/2026/01/C-32.jpg
END:VEVENT
END:VCALENDAR