BEGIN:VCALENDAR
VERSION:2.0
PRODID:-//Diari del Maestrat - ECPv6.4.0//NONSGML v1.0//EN
CALSCALE:GREGORIAN
METHOD:PUBLISH
X-WR-CALNAME:Diari del Maestrat
X-ORIGINAL-URL:https://diaridelmaestrat.com
X-WR-CALDESC:Events for Diari del Maestrat
REFRESH-INTERVAL;VALUE=DURATION:PT1H
X-Robots-Tag:noindex
X-PUBLISHED-TTL:PT1H
BEGIN:VTIMEZONE
TZID:Europe/Helsinki
BEGIN:DAYLIGHT
TZOFFSETFROM:+0200
TZOFFSETTO:+0300
TZNAME:EEST
DTSTART:20260329T010000
END:DAYLIGHT
BEGIN:STANDARD
TZOFFSETFROM:+0300
TZOFFSETTO:+0200
TZNAME:EET
DTSTART:20261025T010000
END:STANDARD
END:VTIMEZONE
BEGIN:VEVENT
DTSTART;VALUE=DATE:20260116
DTEND;VALUE=DATE:20260117
DTSTAMP:20260422T200149
CREATED:20260108T122602Z
LAST-MODIFIED:20260108T122602Z
UID:464344-1768521600-1768607999@diaridelmaestrat.com
SUMMARY:Benicarló - Sant Antoni - Actes de la vespra de Sant Antoni
DESCRIPTION:10:00 h (Plaça de Sant Bartomeu): Muntatge de la foguera + Penjada del Dimoni + Arranjament de l’altar.\nMigdia: Volteig de campanes i llançament de coets.\n\n19:00 h (Plaça de Sant Bartomeu): Tradicional foguera (cremà del dimoni) \nTot seguit\, inici de la cavalcada tradicional amb: \n\n\nPrimera tirada de coques i lloses típiques \n\n\nVisita a la nostra Dama Paula Tena Fresquet
URL:https://diaridelmaestrat.com/agenda/benicarlo-sant-antoni-actes-de-la-vespra-de-sant-antoni/
LOCATION:Plaça de Sant Bartomeu
CATEGORIES:BENICARLÓ
ATTACH;FMTTYPE=image/jpeg:https://diaridelmaestrat.com/wp-content/uploads/2026/01/C-32.jpg
END:VEVENT
END:VCALENDAR