BEGIN:VCALENDAR
VERSION:2.0
PRODID:-//Diari del Maestrat - ECPv6.4.0//NONSGML v1.0//EN
CALSCALE:GREGORIAN
METHOD:PUBLISH
X-ORIGINAL-URL:https://diaridelmaestrat.com
X-WR-CALDESC:Events for Diari del Maestrat
REFRESH-INTERVAL;VALUE=DURATION:PT1H
X-Robots-Tag:noindex
X-PUBLISHED-TTL:PT1H
BEGIN:VTIMEZONE
TZID:Europe/Helsinki
BEGIN:DAYLIGHT
TZOFFSETFROM:+0200
TZOFFSETTO:+0300
TZNAME:EEST
DTSTART:20260329T010000
END:DAYLIGHT
BEGIN:STANDARD
TZOFFSETFROM:+0300
TZOFFSETTO:+0200
TZNAME:EET
DTSTART:20261025T010000
END:STANDARD
END:VTIMEZONE
BEGIN:VEVENT
DTSTART;TZID=Europe/Helsinki:20260319T130000
DTEND;TZID=Europe/Helsinki:20260319T133000
DTSTAMP:20260422T173147
CREATED:20260221T171437Z
LAST-MODIFIED:20260221T171437Z
UID:473736-1773925200-1773927000@diaridelmaestrat.com
SUMMARY:Benicarló - Falles - Mascletà
DESCRIPTION:
URL:https://diaridelmaestrat.com/agenda/benicarlo-falles-mascleta-4/
LOCATION:Plaça de la Constitució de Benicarló
CATEGORIES:BENICARLÓ,Falles
ATTACH;FMTTYPE=image/jpeg:https://diaridelmaestrat.com/wp-content/uploads/2026/02/Fallas.-Mascleta-de-colores-VV-20481_1024.jpg
END:VEVENT
BEGIN:VEVENT
DTSTART;TZID=Europe/Helsinki:20260319T100000
DTEND;TZID=Europe/Helsinki:20260319T110000
DTSTAMP:20260422T173147
CREATED:20260221T171316Z
LAST-MODIFIED:20260221T171316Z
UID:473734-1773914400-1773918000@diaridelmaestrat.com
SUMMARY:Benicarló - Falles - Missa En Honor A Sant Josep
DESCRIPTION:
URL:https://diaridelmaestrat.com/agenda/benicarlo-falles-missa-en-honor-a-sant-josep/
LOCATION:Església de San Bertomeu
CATEGORIES:BENICARLÓ,Falles
ATTACH;FMTTYPE=image/jpeg:https://diaridelmaestrat.com/wp-content/uploads/2025/03/p1-37.jpg
END:VEVENT
BEGIN:VEVENT
DTSTART;VALUE=DATE:20260319
DTEND;VALUE=DATE:20260320
DTSTAMP:20260422T173147
CREATED:20260221T171903Z
LAST-MODIFIED:20260221T171903Z
UID:473738-1773878400-1773964799@diaridelmaestrat.com
SUMMARY:Benicarló - Falles - Nit de la Cremà
DESCRIPTION:
URL:https://diaridelmaestrat.com/agenda/benicarlo-falles-nit-de-la-crema/
LOCATION:Benicarló
CATEGORIES:BENICARLÓ,Falles
ATTACH;FMTTYPE=image/jpeg:https://diaridelmaestrat.com/wp-content/uploads/2023/03/Sin-titulo-1-copia-5.jpg
END:VEVENT
BEGIN:VEVENT
DTSTART;TZID=Europe/Helsinki:20260318T130000
DTEND;TZID=Europe/Helsinki:20260318T133000
DTSTAMP:20260422T173147
CREATED:20260221T170453Z
LAST-MODIFIED:20260221T170453Z
UID:473732-1773838800-1773840600@diaridelmaestrat.com
SUMMARY:Benicarló - Falles - Mascletà
DESCRIPTION:
URL:https://diaridelmaestrat.com/agenda/benicarlo-falles-mascleta-3/
LOCATION:Plaça de la Constitució de Benicarló
CATEGORIES:BENICARLÓ,Falles
ATTACH;FMTTYPE=image/jpeg:https://diaridelmaestrat.com/wp-content/uploads/2026/02/Fallas.-Mascleta-de-colores-VV-20481_1024.jpg
END:VEVENT
BEGIN:VEVENT
DTSTART;TZID=Europe/Helsinki:20260315T170000
DTEND;TZID=Europe/Helsinki:20260315T180000
DTSTAMP:20260422T173147
CREATED:20260221T170316Z
LAST-MODIFIED:20260221T170316Z
UID:473729-1773594000-1773597600@diaridelmaestrat.com
SUMMARY:Benicarló - Falles - Ofrena de flors a la Mare de Déu del Mar
DESCRIPTION:Eixida des de la Plaça de la Constitució
URL:https://diaridelmaestrat.com/agenda/benicarlo-falles-ofrena-de-flors-a-la-mare-de-deu-del-mar/
LOCATION:Plaça de la Constitució de Benicarló
CATEGORIES:BENICARLÓ,Falles
ATTACH;FMTTYPE=image/jpeg:https://diaridelmaestrat.com/wp-content/uploads/2025/08/p1-38.jpg
END:VEVENT
BEGIN:VEVENT
DTSTART;TZID=Europe/Helsinki:20260315T130000
DTEND;TZID=Europe/Helsinki:20260315T133000
DTSTAMP:20260422T173147
CREATED:20260221T170104Z
LAST-MODIFIED:20260221T170104Z
UID:473575-1773579600-1773581400@diaridelmaestrat.com
SUMMARY:Benicarló - Falles - Mascletà
DESCRIPTION:
URL:https://diaridelmaestrat.com/agenda/benicarlo-falles-mascleta-2/
LOCATION:Plaça de la Constitució de Benicarló
CATEGORIES:BENICARLÓ,Falles
ATTACH;FMTTYPE=image/jpeg:https://diaridelmaestrat.com/wp-content/uploads/2026/02/Fallas.-Mascleta-de-colores-VV-20481_1024.jpg
END:VEVENT
BEGIN:VEVENT
DTSTART;TZID=Europe/Helsinki:20260314T130000
DTEND;TZID=Europe/Helsinki:20260314T133000
DTSTAMP:20260422T173147
CREATED:20260221T104833Z
LAST-MODIFIED:20260221T104833Z
UID:473573-1773493200-1773495000@diaridelmaestrat.com
SUMMARY:Benicarló - Falles - Mascletà
DESCRIPTION:
URL:https://diaridelmaestrat.com/agenda/benicarlo-falles-mascleta/
LOCATION:Plaça Constitució\, Plaça Constitució\, Benicarló\, Castellón\, 12580\, España
CATEGORIES:BENICARLÓ,Falles
ATTACH;FMTTYPE=image/jpeg:https://diaridelmaestrat.com/wp-content/uploads/2026/02/Fallas.-Mascleta-de-colores-VV-20481_1024.jpg
END:VEVENT
BEGIN:VEVENT
DTSTART;TZID=Europe/Helsinki:20260313T200000
DTEND;TZID=Europe/Helsinki:20260313T220000
DTSTAMP:20260422T173147
CREATED:20260221T104613Z
LAST-MODIFIED:20260221T104613Z
UID:473571-1773432000-1773439200@diaridelmaestrat.com
SUMMARY:Benicarló - Falles - Lliurament de Premis Falles 2026
DESCRIPTION:Visita també a les Falles guanyadores
URL:https://diaridelmaestrat.com/agenda/benicarlo-falles-lliurament-de-premis-falles-2026/
LOCATION:Pavelló Municipal de Benicarló
CATEGORIES:BENICARLÓ,Falles
ATTACH;FMTTYPE=image/jpeg:https://diaridelmaestrat.com/wp-content/uploads/2023/03/mtv.jpg
END:VEVENT
BEGIN:VEVENT
DTSTART;TZID=Europe/Helsinki:20260312T230000
DTEND;TZID=Europe/Helsinki:20260313T020000
DTSTAMP:20260422T173147
CREATED:20260221T104306Z
LAST-MODIFIED:20260221T104306Z
UID:473569-1773356400-1773367200@diaridelmaestrat.com
SUMMARY:Benicarló - Falles - Nit De La Llum
DESCRIPTION:
URL:https://diaridelmaestrat.com/agenda/benicarlo-falles-nit-de-la-llum/
LOCATION:Plaça de la Constitució de Benicarló
CATEGORIES:BENICARLÓ,Falles
ATTACH;FMTTYPE=image/jpeg:https://diaridelmaestrat.com/wp-content/uploads/2025/03/p1-25.jpg
END:VEVENT
BEGIN:VEVENT
DTSTART;TZID=Europe/Helsinki:20260310T120000
DTEND;TZID=Europe/Helsinki:20260310T123000
DTSTAMP:20260422T173147
CREATED:20260221T103656Z
LAST-MODIFIED:20260221T103656Z
UID:473565-1773144000-1773145800@diaridelmaestrat.com
SUMMARY:Benicarló - Falles - Mascletà a València
DESCRIPTION:
URL:https://diaridelmaestrat.com/agenda/benicarlo-falles-mascleta-a-valencia/
LOCATION:Plaça de l’Ajuntament
CATEGORIES:BENICARLÓ,Falles
ATTACH;FMTTYPE=image/jpeg:https://diaridelmaestrat.com/wp-content/uploads/2026/02/Fallas.-Mascleta-de-colores-VV-20481_1024.jpg
END:VEVENT
BEGIN:VEVENT
DTSTART;TZID=Europe/Helsinki:20260308T190000
DTEND;TZID=Europe/Helsinki:20260308T200000
DTSTAMP:20260422T173147
CREATED:20260221T103357Z
LAST-MODIFIED:20260221T103357Z
UID:473563-1772996400-1773000000@diaridelmaestrat.com
SUMMARY:Benicarló - Falles - Lliurament de bunyols
DESCRIPTION:
URL:https://diaridelmaestrat.com/agenda/benicarlo-falles-lliurament-de-bunyols/
LOCATION:Auditori Pedro Mercader\, Carrer de València\, s/n\, 12580 Benicarló\, Benicarló\, Castellón\, 12580\, España
CATEGORIES:BENICARLÓ,Falles
END:VEVENT
BEGIN:VEVENT
DTSTART;TZID=Europe/Helsinki:20260307T180000
DTEND;TZID=Europe/Helsinki:20260307T190000
DTSTAMP:20260422T173147
CREATED:20260221T102735Z
LAST-MODIFIED:20260221T102735Z
UID:473559-1772906400-1772910000@diaridelmaestrat.com
SUMMARY:Benicarló - Falles - Cavalcada del Ninot
DESCRIPTION:
URL:https://diaridelmaestrat.com/agenda/benicarlo-falles-cavalcada-del-ninot/
LOCATION:Benicarló
CATEGORIES:BENICARLÓ,Falles
ATTACH;FMTTYPE=image/jpeg:https://diaridelmaestrat.com/wp-content/uploads/2025/03/d4973b0c-c2cd-4252-9707-6ed0a76ebf38.jpg
END:VEVENT
BEGIN:VEVENT
DTSTART;TZID=Europe/Helsinki:20260228T200000
DTEND;TZID=Europe/Helsinki:20260228T210000
DTSTAMP:20260422T173147
CREATED:20260221T102420Z
LAST-MODIFIED:20260221T102420Z
UID:473555-1772308800-1772312400@diaridelmaestrat.com
SUMMARY:Benicarló - Falles - Cridà des del balcó de l'Ajuntament
DESCRIPTION:A càrrec de les Falles Majors de Benicarló
URL:https://diaridelmaestrat.com/agenda/benicarlo-falles-crida-des-del-balco-de-lajuntament/
LOCATION:Ajuntament de Benicarló
CATEGORIES:BENICARLÓ,Falles
ATTACH;FMTTYPE=image/jpeg:https://diaridelmaestrat.com/wp-content/uploads/2025/03/p0.jpg
END:VEVENT
BEGIN:VEVENT
DTSTART;TZID=Europe/Helsinki:20260222T120000
DTEND;TZID=Europe/Helsinki:20260222T130000
DTSTAMP:20260422T173147
CREATED:20260108T125313Z
LAST-MODIFIED:20260108T125313Z
UID:464386-1771761600-1771765200@diaridelmaestrat.com
SUMMARY:Benicarló - Falles - Exaltació Falla La Paperina
DESCRIPTION:
URL:https://diaridelmaestrat.com/agenda/benicarlo-falles-exaltacio-falla-la-paperina/
LOCATION:Auditori Pedro Mercader\, Carrer de València\, s/n\, 12580 Benicarló\, Benicarló\, Castellón\, 12580\, España
CATEGORIES:BENICARLÓ,Falles
ATTACH;FMTTYPE=image/jpeg:https://diaridelmaestrat.com/wp-content/uploads/2026/01/B-38.jpg
END:VEVENT
BEGIN:VEVENT
DTSTART;TZID=Europe/Helsinki:20260221T180000
DTEND;TZID=Europe/Helsinki:20260221T190000
DTSTAMP:20260422T173147
CREATED:20260108T125213Z
LAST-MODIFIED:20260108T125213Z
UID:464384-1771696800-1771700400@diaridelmaestrat.com
SUMMARY:Benicarló - Falles - Exaltació Falla Amics del Foc
DESCRIPTION:
URL:https://diaridelmaestrat.com/agenda/benicarlo-falles-exaltacio-falla-amics-del-foc/
LOCATION:Auditori Pedro Mercader\, Carrer de València\, s/n\, 12580 Benicarló\, Benicarló\, Castellón\, 12580\, España
CATEGORIES:BENICARLÓ,Falles
ATTACH;FMTTYPE=image/jpeg:https://diaridelmaestrat.com/wp-content/uploads/2026/01/B-38.jpg
END:VEVENT
BEGIN:VEVENT
DTSTART;TZID=Europe/Helsinki:20260221T080000
DTEND;TZID=Europe/Helsinki:20260221T170000
DTSTAMP:20260422T173147
CREATED:20260221T103141Z
LAST-MODIFIED:20260221T103141Z
UID:473561-1771660800-1771693200@diaridelmaestrat.com
SUMMARY:Benicarló - Falles - Lliurament de Premis
DESCRIPTION:Premi a la millor escenografia d’exaltació fallera \n\n\nPremi Llibret \n\n\nPremis de dibuix escolar
URL:https://diaridelmaestrat.com/agenda/benicarlo-falles-lliurament-de-premis/
LOCATION:Plaça Mestres del Temple
CATEGORIES:BENICARLÓ,Falles
ATTACH;FMTTYPE=image/jpeg:https://diaridelmaestrat.com/wp-content/uploads/2022/03/1647252446986-1.jpg
END:VEVENT
BEGIN:VEVENT
DTSTART;TZID=Europe/Helsinki:20260215T120000
DTEND;TZID=Europe/Helsinki:20260215T130000
DTSTAMP:20260422T173147
CREATED:20260108T125107Z
LAST-MODIFIED:20260108T125107Z
UID:464381-1771156800-1771160400@diaridelmaestrat.com
SUMMARY:Benicarló - Falles - Exaltació Falla 9 d'Octubre
DESCRIPTION:
URL:https://diaridelmaestrat.com/agenda/benicarlo-falles-exaltacio-falla-9-doctubre/
LOCATION:Auditori Pedro Mercader\, Carrer de València\, s/n\, 12580 Benicarló\, Benicarló\, Castellón\, 12580\, España
CATEGORIES:BENICARLÓ,Falles
ATTACH;FMTTYPE=image/jpeg:https://diaridelmaestrat.com/wp-content/uploads/2026/01/B-38.jpg
END:VEVENT
BEGIN:VEVENT
DTSTART;TZID=Europe/Helsinki:20260214T120000
DTEND;TZID=Europe/Helsinki:20260214T130000
DTSTAMP:20260422T173147
CREATED:20260108T125000Z
LAST-MODIFIED:20260108T125000Z
UID:464379-1771070400-1771074000@diaridelmaestrat.com
SUMMARY:Benicarló - Falles - Exaltació Falla La Carrasca
DESCRIPTION:
URL:https://diaridelmaestrat.com/agenda/benicarlo-falles-exaltacio-falla-la-carrasca/
LOCATION:Auditori Pedro Mercader\, Carrer de València\, s/n\, 12580 Benicarló\, Benicarló\, Castellón\, 12580\, España
CATEGORIES:BENICARLÓ,Falles
ATTACH;FMTTYPE=image/jpeg:https://diaridelmaestrat.com/wp-content/uploads/2026/01/B-38.jpg
END:VEVENT
BEGIN:VEVENT
DTSTART;TZID=Europe/Helsinki:20260208T120000
DTEND;TZID=Europe/Helsinki:20260208T130000
DTSTAMP:20260422T173147
CREATED:20260108T124748Z
LAST-MODIFIED:20260108T124748Z
UID:464377-1770552000-1770555600@diaridelmaestrat.com
SUMMARY:Benicarló - Falles - Exaltació Falla Els Cremats
DESCRIPTION:
URL:https://diaridelmaestrat.com/agenda/benicarlo-falles-exaltacio-falla-els-cremats/
LOCATION:Auditori Pedro Mercader\, Carrer de València\, s/n\, 12580 Benicarló\, Benicarló\, Castellón\, 12580\, España
CATEGORIES:BENICARLÓ,Falles
ATTACH;FMTTYPE=image/jpeg:https://diaridelmaestrat.com/wp-content/uploads/2026/01/B-38.jpg
END:VEVENT
BEGIN:VEVENT
DTSTART;TZID=Europe/Helsinki:20260207T120000
DTEND;TZID=Europe/Helsinki:20260207T130000
DTSTAMP:20260422T173147
CREATED:20260108T124654Z
LAST-MODIFIED:20260108T124654Z
UID:464374-1770465600-1770469200@diaridelmaestrat.com
SUMMARY:Benicarló - Falles - Exaltació Falla La Barraca (45è aniversari)
DESCRIPTION:
URL:https://diaridelmaestrat.com/agenda/benicarlo-falles-exaltacio-falla-la-barraca-45e-aniversari/
LOCATION:Auditori Pedro Mercader\, Carrer de València\, s/n\, 12580 Benicarló\, Benicarló\, Castellón\, 12580\, España
CATEGORIES:BENICARLÓ,Falles
ATTACH;FMTTYPE=image/jpeg:https://diaridelmaestrat.com/wp-content/uploads/2026/01/B-38.jpg
END:VEVENT
BEGIN:VEVENT
DTSTART;TZID=Europe/Helsinki:20260201T113000
DTEND;TZID=Europe/Helsinki:20260201T123000
DTSTAMP:20260422T173147
CREATED:20260108T124531Z
LAST-MODIFIED:20260108T124552Z
UID:464371-1769945400-1769949000@diaridelmaestrat.com
SUMMARY:Benicarló - Falles - Exaltació Falla Els Conquistaors
DESCRIPTION:
URL:https://diaridelmaestrat.com/agenda/benicarlo-falles-exaltacio-falla-els-conquistadors/
LOCATION:Auditori Pedro Mercader\, Carrer de València\, s/n\, 12580 Benicarló\, Benicarló\, Castellón\, 12580\, España
CATEGORIES:BENICARLÓ,Falles
ATTACH;FMTTYPE=image/jpeg:https://diaridelmaestrat.com/wp-content/uploads/2026/01/B-38.jpg
END:VEVENT
BEGIN:VEVENT
DTSTART;TZID=Europe/Helsinki:20260131T180000
DTEND;TZID=Europe/Helsinki:20260131T190000
DTSTAMP:20260422T173147
CREATED:20260108T124436Z
LAST-MODIFIED:20260108T124436Z
UID:464368-1769882400-1769886000@diaridelmaestrat.com
SUMMARY:Benicarló - Falles - Exaltació Falla El Grill
DESCRIPTION:
URL:https://diaridelmaestrat.com/agenda/benicarlo-falles-exaltacio-falla-el-grill/
LOCATION:Auditori Pedro Mercader\, Carrer de València\, s/n\, 12580 Benicarló\, Benicarló\, Castellón\, 12580\, España
CATEGORIES:BENICARLÓ,Falles
ATTACH;FMTTYPE=image/jpeg:https://diaridelmaestrat.com/wp-content/uploads/2026/01/B-38.jpg
END:VEVENT
BEGIN:VEVENT
DTSTART;TZID=Europe/Helsinki:20260125T120000
DTEND;TZID=Europe/Helsinki:20260125T130000
DTSTAMP:20260422T173147
CREATED:20260108T124337Z
LAST-MODIFIED:20260108T124337Z
UID:464366-1769342400-1769346000@diaridelmaestrat.com
SUMMARY:Benicarló - Falles - Exaltació Falla El Campanar
DESCRIPTION:
URL:https://diaridelmaestrat.com/agenda/benicarlo-falles-exaltacio-falla-el-campanar/
LOCATION:Auditori Pedro Mercader\, Carrer de València\, s/n\, 12580 Benicarló\, Benicarló\, Castellón\, 12580\, España
CATEGORIES:BENICARLÓ,Falles
ATTACH;FMTTYPE=image/jpeg:https://diaridelmaestrat.com/wp-content/uploads/2026/01/B-38.jpg
END:VEVENT
BEGIN:VEVENT
DTSTART;TZID=Europe/Helsinki:20260124T113000
DTEND;TZID=Europe/Helsinki:20260124T123000
DTSTAMP:20260422T173147
CREATED:20260108T124237Z
LAST-MODIFIED:20260108T124237Z
UID:464364-1769254200-1769257800@diaridelmaestrat.com
SUMMARY:Benicarló - Falles - Exaltació Falla Benicarló
DESCRIPTION:
URL:https://diaridelmaestrat.com/agenda/benicarlo-falles-exaltacio-falla-benicarlo/
LOCATION:Auditori Pedro Mercader\, Carrer de València\, s/n\, 12580 Benicarló\, Benicarló\, Castellón\, 12580\, España
CATEGORIES:BENICARLÓ,Falles
ATTACH;FMTTYPE=image/jpeg:https://diaridelmaestrat.com/wp-content/uploads/2026/01/B-38.jpg
END:VEVENT
BEGIN:VEVENT
DTSTART;TZID=Europe/Helsinki:20260118T113000
DTEND;TZID=Europe/Helsinki:20260118T123000
DTSTAMP:20260422T173147
CREATED:20260108T124137Z
LAST-MODIFIED:20260108T124137Z
UID:464362-1768735800-1768739400@diaridelmaestrat.com
SUMMARY:Benicarló - Falles - Exaltació Falla Nou Barri
DESCRIPTION:
URL:https://diaridelmaestrat.com/agenda/benicarlo-falles-exaltacio-falla-nou-barri/
LOCATION:Auditori Pedro Mercader\, Carrer de València\, s/n\, 12580 Benicarló\, Benicarló\, Castellón\, 12580\, España
CATEGORIES:BENICARLÓ,Falles
ATTACH;FMTTYPE=image/jpeg:https://diaridelmaestrat.com/wp-content/uploads/2026/01/B-38.jpg
END:VEVENT
BEGIN:VEVENT
DTSTART;TZID=Europe/Helsinki:20260117T173000
DTEND;TZID=Europe/Helsinki:20260117T183000
DTSTAMP:20260422T173147
CREATED:20260108T124039Z
LAST-MODIFIED:20260108T124039Z
UID:464359-1768671000-1768674600@diaridelmaestrat.com
SUMMARY:Benicarló - Falles - Exaltació Falla l'Embut
DESCRIPTION:
URL:https://diaridelmaestrat.com/agenda/benicarlo-falles-exaltacio-falla-lembut/
LOCATION:Auditori Pedro Mercader\, Carrer de València\, s/n\, 12580 Benicarló\, Benicarló\, Castellón\, 12580\, España
CATEGORIES:BENICARLÓ,Falles
ATTACH;FMTTYPE=image/jpeg:https://diaridelmaestrat.com/wp-content/uploads/2026/01/B-38.jpg
END:VEVENT
BEGIN:VEVENT
DTSTART;VALUE=DATE:20260117
DTEND;VALUE=DATE:20260118
DTSTAMP:20260422T173147
CREATED:20260108T122749Z
LAST-MODIFIED:20260108T122749Z
UID:464348-1768608000-1768694399@diaridelmaestrat.com
SUMMARY:Benicarló - Sant Antoni - Actes de Sant Antoni
DESCRIPTION:🕥 10.30 h – Missa solemne a l’església de Sant Bartomeu en honor a Sant Antoni Abat. \n\n\n\n\nEn finalitzar la missa\, benedicció dels animals \n\n\nA continuació\, el Club Colombòfil Missatger de Benicarló oferirà una solta de coloms \n\n\n\n\n🕛 12.00 h – Sorteig dels premis. \n🕕 18.00 h – Eixida de la cavalcada\, amb: \n\n\n\n\nSegona tirada de coques \n\n\nActe d’homenatge per part de la Confraria a Josep Manuel Galán Foix i Elisa Tena Soriano en reconeixement a la seua aportació a la Festa de Sant Antoni.
URL:https://diaridelmaestrat.com/agenda/benicarlo-sant-antoni-actes-de-sant-antoni/
CATEGORIES:BENICARLÓ,Festes
ATTACH;FMTTYPE=image/jpeg:https://diaridelmaestrat.com/wp-content/uploads/2026/01/C-32.jpg
END:VEVENT
BEGIN:VEVENT
DTSTART;VALUE=DATE:20260116
DTEND;VALUE=DATE:20260117
DTSTAMP:20260422T173147
CREATED:20260108T122602Z
LAST-MODIFIED:20260108T122602Z
UID:464344-1768521600-1768607999@diaridelmaestrat.com
SUMMARY:Benicarló - Sant Antoni - Actes de la vespra de Sant Antoni
DESCRIPTION:10:00 h (Plaça de Sant Bartomeu): Muntatge de la foguera + Penjada del Dimoni + Arranjament de l’altar.\nMigdia: Volteig de campanes i llançament de coets.\n\n19:00 h (Plaça de Sant Bartomeu): Tradicional foguera (cremà del dimoni) \nTot seguit\, inici de la cavalcada tradicional amb: \n\n\nPrimera tirada de coques i lloses típiques \n\n\nVisita a la nostra Dama Paula Tena Fresquet
URL:https://diaridelmaestrat.com/agenda/benicarlo-sant-antoni-actes-de-la-vespra-de-sant-antoni/
LOCATION:Plaça de Sant Bartomeu
CATEGORIES:BENICARLÓ
ATTACH;FMTTYPE=image/jpeg:https://diaridelmaestrat.com/wp-content/uploads/2026/01/C-32.jpg
END:VEVENT
BEGIN:VEVENT
DTSTART;VALUE=DATE:20260114
DTEND;VALUE=DATE:20260116
DTSTAMP:20260422T173147
CREATED:20260108T122151Z
LAST-MODIFIED:20260108T122151Z
UID:464342-1768348800-1768521599@diaridelmaestrat.com
SUMMARY:Benicarló - Sant Antoni - Repartiment de coquetes
DESCRIPTION:Visita de la Dama Paula Tena Fresquet i les majorals als diferents organismes i col·legis de la ciutat per repartir les típiques coquetes a tots els xiquets i xiquetes
URL:https://diaridelmaestrat.com/agenda/benicarlo-sant-antoni-repartiment-de-coquetes/
CATEGORIES:BENICARLÓ
ATTACH;FMTTYPE=image/jpeg:https://diaridelmaestrat.com/wp-content/uploads/2026/01/C-32.jpg
END:VEVENT
BEGIN:VEVENT
DTSTART;TZID=Europe/Helsinki:20260111T120000
DTEND;TZID=Europe/Helsinki:20260111T130000
DTSTAMP:20260422T173147
CREATED:20260108T123856Z
LAST-MODIFIED:20260108T123856Z
UID:464357-1768132800-1768136400@diaridelmaestrat.com
SUMMARY:Benicarló - Falles - Exaltació Falla El Caduf
DESCRIPTION:
URL:https://diaridelmaestrat.com/agenda/benicarlo-falles-exaltacio-falla-el-caduf/
LOCATION:Auditori Pedro Mercader\, Carrer de València\, s/n\, 12580 Benicarló\, Benicarló\, Castellón\, 12580\, España
CATEGORIES:BENICARLÓ,Falles
ATTACH;FMTTYPE=image/jpeg:https://diaridelmaestrat.com/wp-content/uploads/2026/01/B-38.jpg
END:VEVENT
END:VCALENDAR