BEGIN:VCALENDAR
VERSION:2.0
PRODID:-//Diari del Maestrat - ECPv6.4.0//NONSGML v1.0//EN
CALSCALE:GREGORIAN
METHOD:PUBLISH
X-WR-CALNAME:Diari del Maestrat
X-ORIGINAL-URL:https://diaridelmaestrat.com
X-WR-CALDESC:Events for Diari del Maestrat
REFRESH-INTERVAL;VALUE=DURATION:PT1H
X-Robots-Tag:noindex
X-PUBLISHED-TTL:PT1H
BEGIN:VTIMEZONE
TZID:Europe/Helsinki
BEGIN:DAYLIGHT
TZOFFSETFROM:+0200
TZOFFSETTO:+0300
TZNAME:EEST
DTSTART:20240331T010000
END:DAYLIGHT
BEGIN:STANDARD
TZOFFSETFROM:+0300
TZOFFSETTO:+0200
TZNAME:EET
DTSTART:20241027T010000
END:STANDARD
BEGIN:DAYLIGHT
TZOFFSETFROM:+0200
TZOFFSETTO:+0300
TZNAME:EEST
DTSTART:20250330T010000
END:DAYLIGHT
BEGIN:STANDARD
TZOFFSETFROM:+0300
TZOFFSETTO:+0200
TZNAME:EET
DTSTART:20251026T010000
END:STANDARD
END:VTIMEZONE
BEGIN:VEVENT
DTSTART;TZID=Europe/Helsinki:20250319T130000
DTEND;TZID=Europe/Helsinki:20250319T133000
DTSTAMP:20260422T211738
CREATED:20250305T125712Z
LAST-MODIFIED:20250305T125712Z
UID:390197-1742389200-1742391000@diaridelmaestrat.com
SUMMARY:Benicarló - Mascletà
DESCRIPTION:
URL:https://diaridelmaestrat.com/agenda/benicarlo-mascleta-3/
LOCATION:Plaça de la Constitució de Benicarló
CATEGORIES:BENICARLÓ,Falles
ATTACH;FMTTYPE=image/jpeg:https://diaridelmaestrat.com/wp-content/uploads/2019/08/190909-mascleta-4.jpg
END:VEVENT
BEGIN:VEVENT
DTSTART;TZID=Europe/Helsinki:20250319T100000
DTEND;TZID=Europe/Helsinki:20250319T110000
DTSTAMP:20260422T211738
CREATED:20250305T125917Z
LAST-MODIFIED:20250305T125917Z
UID:390199-1742378400-1742382000@diaridelmaestrat.com
SUMMARY:Benicarló - Missa en honor a Sant Josep
DESCRIPTION:
URL:https://diaridelmaestrat.com/agenda/benicarlo-missa-en-honor-a-sant-josep/
LOCATION:Església de San Bertomeu
CATEGORIES:BENICARLÓ,Falles
ATTACH;FMTTYPE=image/webp:https://diaridelmaestrat.com/wp-content/uploads/2025/03/p1-4.jpg.webp
END:VEVENT
BEGIN:VEVENT
DTSTART;TZID=Europe/Helsinki:20250316T170000
DTEND;TZID=Europe/Helsinki:20250316T180000
DTSTAMP:20260422T211738
CREATED:20250305T125459Z
LAST-MODIFIED:20250305T125459Z
UID:390194-1742144400-1742148000@diaridelmaestrat.com
SUMMARY:Benicarló - Ofrena de flors a la Mare de Déu de la Mar
DESCRIPTION:Recorregut: Pl. de la Constitució\, av. de Pius XII\, c. del Crist de la Mar\, c del Rei en Jaume\, c. Major i pl. de Sant Bartomeu
URL:https://diaridelmaestrat.com/agenda/benicarlo-ofrena-de-flors-a-la-mare-de-deu-de-la-mar/
LOCATION:Plaça de la Constitució de Benicarló
CATEGORIES:BENICARLÓ,Falles
ATTACH;FMTTYPE=image/webp:https://diaridelmaestrat.com/wp-content/uploads/2025/03/p1-3.jpg.webp
END:VEVENT
BEGIN:VEVENT
DTSTART;TZID=Europe/Helsinki:20250316T130000
DTEND;TZID=Europe/Helsinki:20250316T133000
DTSTAMP:20260422T211738
CREATED:20250305T125238Z
LAST-MODIFIED:20250305T125238Z
UID:390192-1742130000-1742131800@diaridelmaestrat.com
SUMMARY:Benicarló - Mascletà
DESCRIPTION:
URL:https://diaridelmaestrat.com/agenda/benicarlo-mascleta-2/
LOCATION:Plaça de la Constitució de Benicarló
CATEGORIES:BENICARLÓ,Falles
ATTACH;FMTTYPE=image/jpeg:https://diaridelmaestrat.com/wp-content/uploads/2019/08/190909-mascleta-4.jpg
END:VEVENT
BEGIN:VEVENT
DTSTART;TZID=Europe/Helsinki:20250315T170000
DTEND;TZID=Europe/Helsinki:20250315T180000
DTSTAMP:20260422T211738
CREATED:20250305T125019Z
LAST-MODIFIED:20250305T125107Z
UID:390188-1742058000-1742061600@diaridelmaestrat.com
SUMMARY:Benicarló - Volteta per les falles de la ciutat
DESCRIPTION:Lloc sortida: Seu Junta Local Fallera de Benicarló
URL:https://diaridelmaestrat.com/agenda/benicarlo-volteta-per-les-falles-de-la-ciutat/
LOCATION:Seu Junta Local Fallera de Benicarló
CATEGORIES:BENICARLÓ,Falles
ATTACH;FMTTYPE=image/jpeg:https://diaridelmaestrat.com/wp-content/uploads/2024/05/falla1.jpeg
END:VEVENT
BEGIN:VEVENT
DTSTART;TZID=Europe/Helsinki:20250315T130000
DTEND;TZID=Europe/Helsinki:20250315T133000
DTSTAMP:20260422T211738
CREATED:20250305T124806Z
LAST-MODIFIED:20250305T124806Z
UID:390186-1742043600-1742045400@diaridelmaestrat.com
SUMMARY:Benicarló - Mascletà
DESCRIPTION:
URL:https://diaridelmaestrat.com/agenda/benicarlo-mascleta/
LOCATION:Plaça de la Constitució de Benicarló
CATEGORIES:BENICARLÓ,Falles
ATTACH;FMTTYPE=image/jpeg:https://diaridelmaestrat.com/wp-content/uploads/2019/08/190909-mascleta-4.jpg
END:VEVENT
BEGIN:VEVENT
DTSTART;TZID=Europe/Helsinki:20250314T200000
DTEND;TZID=Europe/Helsinki:20250314T210000
DTSTAMP:20260422T211738
CREATED:20250305T124521Z
LAST-MODIFIED:20250305T124521Z
UID:389829-1741982400-1741986000@diaridelmaestrat.com
SUMMARY:Benicarló - Lliurament del Premis Falles 2025
DESCRIPTION:En finalitzar\, visita a les falles guanyadores
URL:https://diaridelmaestrat.com/agenda/benicarlo-lliurament-del-premis-falles-2025/
LOCATION:Pavelló Municipal de Benicarló
CATEGORIES:BENICARLÓ,Falles
ATTACH;FMTTYPE=image/jpeg:https://diaridelmaestrat.com/wp-content/uploads/2025/03/falla-caduf2.jpg
END:VEVENT
BEGIN:VEVENT
DTSTART;TZID=Europe/Helsinki:20250313T230000
DTEND;TZID=Europe/Helsinki:20250314T010000
DTSTAMP:20260422T211738
CREATED:20250303T130155Z
LAST-MODIFIED:20250303T130155Z
UID:389806-1741906800-1741914000@diaridelmaestrat.com
SUMMARY:Benicarló - Nit de la Llum
DESCRIPTION:
URL:https://diaridelmaestrat.com/agenda/benicarlo-nit-de-la-llum/
LOCATION:Plaça de la Constitució de Benicarló
CATEGORIES:BENICARLÓ,Falles
ATTACH;FMTTYPE=image/jpeg:https://diaridelmaestrat.com/wp-content/uploads/2025/03/475982237_3834867003445072_6155299210668558797_n.jpg
END:VEVENT
BEGIN:VEVENT
DTSTART;TZID=Europe/Helsinki:20250311T140000
DTEND;TZID=Europe/Helsinki:20250311T143000
DTSTAMP:20260422T211738
CREATED:20250303T121353Z
LAST-MODIFIED:20250303T121353Z
UID:389803-1741701600-1741703400@diaridelmaestrat.com
SUMMARY:Benicarló / València - Mascletà a càrrec de la Pirotècnia Tomás
DESCRIPTION:
URL:https://diaridelmaestrat.com/agenda/benicarlo-valencia-mascleta-a-carrec-de-la-pirotecnia-tomas/
LOCATION:Plaça de l’Ajuntament de València
CATEGORIES:BENICARLÓ,Falles
ATTACH;FMTTYPE=image/jpeg:https://diaridelmaestrat.com/wp-content/uploads/2019/08/190909-mascleta-4.jpg
END:VEVENT
BEGIN:VEVENT
DTSTART;TZID=Europe/Helsinki:20250311T090000
DTEND;TZID=Europe/Helsinki:20250311T100000
DTSTAMP:20260422T211738
CREATED:20250303T121223Z
LAST-MODIFIED:20250303T121223Z
UID:389801-1741683600-1741687200@diaridelmaestrat.com
SUMMARY:Benicarló - Sortida a València per a gaudir de la mascletà de la Pirotècnia Tomás
DESCRIPTION:
URL:https://diaridelmaestrat.com/agenda/benicarlo-sortida-a-valencia-per-a-gaudir-de-la-mascleta-de-la-pirotecnia-tomas/
LOCATION:Plaça de la Constitució de Benicarló
CATEGORIES:BENICARLÓ,Falles
ATTACH;FMTTYPE=image/jpeg:https://diaridelmaestrat.com/wp-content/uploads/2019/08/190909-mascleta-4.jpg
END:VEVENT
BEGIN:VEVENT
DTSTART;TZID=Europe/Helsinki:20250309T190000
DTEND;TZID=Europe/Helsinki:20250309T200000
DTSTAMP:20260422T211738
CREATED:20250303T121100Z
LAST-MODIFIED:20250303T121100Z
UID:389798-1741546800-1741550400@diaridelmaestrat.com
SUMMARY:Benicarló -  Lliurament de les màximes recompenses falleres a l’Auditori Pedro Mercader
DESCRIPTION:
URL:https://diaridelmaestrat.com/agenda/benicarlo-lliurament-de-les-maximes-recompenses-falleres-a-lauditori-pedro-mercader/
LOCATION:Auditori Pedro Mercader\, Carrer de València\, s/n\, 12580 Benicarló\, Benicarló\, Castellón\, 12580\, España
CATEGORIES:BENICARLÓ,Falles
ATTACH;FMTTYPE=image/webp:https://diaridelmaestrat.com/wp-content/uploads/2025/03/AUDITORI.webp
END:VEVENT
BEGIN:VEVENT
DTSTART;TZID=Europe/Helsinki:20250309T180000
DTEND;TZID=Europe/Helsinki:20250309T190000
DTSTAMP:20260422T211738
CREATED:20250303T120831Z
LAST-MODIFIED:20250303T120831Z
UID:389793-1741543200-1741546800@diaridelmaestrat.com
SUMMARY:Benicarló - Lliurament dels premis de dibuix escolar
DESCRIPTION:
URL:https://diaridelmaestrat.com/agenda/benicarlo-lliurament-dels-premis-de-dibuix-escolar/
LOCATION:Plaça Mestres del Temple
CATEGORIES:BENICARLÓ,Falles
ATTACH;FMTTYPE=image/jpeg:https://diaridelmaestrat.com/wp-content/uploads/2025/03/Premis-Dibuixos.jpg
END:VEVENT
BEGIN:VEVENT
DTSTART;TZID=Europe/Helsinki:20250308T180000
DTEND;TZID=Europe/Helsinki:20250308T200000
DTSTAMP:20260422T211738
CREATED:20250303T120455Z
LAST-MODIFIED:20250303T120455Z
UID:389787-1741456800-1741464000@diaridelmaestrat.com
SUMMARY:Benicarló - Cavalcada del Ninot
DESCRIPTION:
URL:https://diaridelmaestrat.com/agenda/benicarlo-cavalcada-del-ninot/
LOCATION:Plaça de la Constitució de Benicarló
CATEGORIES:BENICARLÓ,Falles
ATTACH;FMTTYPE=image/jpeg:https://diaridelmaestrat.com/wp-content/uploads/2025/03/d2cdc8ba-f24f-42ed-a336-8715ec88c729jpg97.jpg
END:VEVENT
BEGIN:VEVENT
DTSTART;TZID=Europe/Helsinki:20250305T200000
DTEND;TZID=Europe/Helsinki:20250305T203000
DTSTAMP:20260422T211738
CREATED:20250305T130321Z
LAST-MODIFIED:20250305T130321Z
UID:390203-1741204800-1741206600@diaridelmaestrat.com
SUMMARY:Benicarló - Cremà de les falles infantils 20255
DESCRIPTION:
URL:https://diaridelmaestrat.com/agenda/benicarlo-crema-de-les-falles-infantils-20255/
LOCATION:Benicarló
CATEGORIES:BENICARLÓ,Falles
ATTACH;FMTTYPE=image/webp:https://diaridelmaestrat.com/wp-content/uploads/2025/03/7dd7972c-d44c-438a-a119-a81b503460fbjpg8.webp
END:VEVENT
BEGIN:VEVENT
DTSTART;TZID=Europe/Helsinki:20241219T200000
DTEND;TZID=Europe/Helsinki:20241219T213000
DTSTAMP:20260422T211738
CREATED:20241210T142725Z
LAST-MODIFIED:20241210T142725Z
UID:374653-1734638400-1734643800@diaridelmaestrat.com
SUMMARY:Benicarló - Audició de Nadal de l’alumnat de percussió de l’Escola de Música Ciutat de Benicarló
DESCRIPTION:
URL:https://diaridelmaestrat.com/agenda/benicarlo-audicio-de-nadal-de-lalumnat-de-percussio-de-lescola-de-musica-ciutat-de-benicarlo/
LOCATION:Seu de la Banda
CATEGORIES:BENICARLÓ,Concerts,Nadal
ATTACH;FMTTYPE=image/gif:https://diaridelmaestrat.com/wp-content/uploads/2024/12/logotipo_escolaAMPLI.gif
END:VEVENT
BEGIN:VEVENT
DTSTART;TZID=Europe/Helsinki:20241218T200000
DTEND;TZID=Europe/Helsinki:20241218T220000
DTSTAMP:20260422T211738
CREATED:20241210T142338Z
LAST-MODIFIED:20241210T142338Z
UID:374642-1734552000-1734559200@diaridelmaestrat.com
SUMMARY:Benicarló - Audició de Nadal de l’alumnat de trompa i oboé de l’Escola de Música Ciutat de Benicarló
DESCRIPTION:
URL:https://diaridelmaestrat.com/agenda/benicarlo-audicio-de-nadal-de-lalumnat-de-trompa-i-oboe-de-lescola-de-musica-ciutat-de-benicarlo/
LOCATION:Seu de la Banda
CATEGORIES:BENICARLÓ,Concerts,Nadal
ATTACH;FMTTYPE=image/gif:https://diaridelmaestrat.com/wp-content/uploads/2024/12/logotipo_escolaAMPLI.gif
END:VEVENT
BEGIN:VEVENT
DTSTART;TZID=Europe/Helsinki:20241217T200000
DTEND;TZID=Europe/Helsinki:20241217T220000
DTSTAMP:20260422T211738
CREATED:20241210T141801Z
LAST-MODIFIED:20241210T141801Z
UID:374637-1734465600-1734472800@diaridelmaestrat.com
SUMMARY:Benicarló - Audició de Nadal de l’alumnat de fagot i flauta de l’Escola de Música Ciutat de Benicarló
DESCRIPTION:
URL:https://diaridelmaestrat.com/agenda/benicarlo-audicio-de-nadal-de-lalumnat-de-fagot-i-flauta-de-lescola-de-musica-ciutat-de-benicarlo/
LOCATION:Seu de la Banda
CATEGORIES:BENICARLÓ,Concerts,Nadal
ATTACH;FMTTYPE=image/gif:https://diaridelmaestrat.com/wp-content/uploads/2024/12/logotipo_escolaAMPLI.gif
END:VEVENT
BEGIN:VEVENT
DTSTART;TZID=Europe/Helsinki:20241214T190000
DTEND;TZID=Europe/Helsinki:20241215T210000
DTSTAMP:20260422T211738
CREATED:20241210T141130Z
LAST-MODIFIED:20241210T141406Z
UID:374632-1734202800-1734296400@diaridelmaestrat.com
SUMMARY:Benicarló - XXVII edició de L’Estel del Collet\, Nadal a Benicarló
DESCRIPTION:
URL:https://diaridelmaestrat.com/agenda/benicarlo-xxvii-edicio-de-lestel-del-collet-nadal-a-benicarlo/
LOCATION:Auditori Pedro Mercader\, Carrer de València\, s/n\, 12580 Benicarló\, Benicarló\, Castellón\, 12580\, España
CATEGORIES:BENICARLÓ,Nadal
ATTACH;FMTTYPE=image/jpeg:https://diaridelmaestrat.com/wp-content/uploads/2024/12/30109-1.jpeg
END:VEVENT
BEGIN:VEVENT
DTSTART;TZID=Europe/Helsinki:20241214T173000
DTEND;TZID=Europe/Helsinki:20241214T193000
DTSTAMP:20260422T211738
CREATED:20241210T140624Z
LAST-MODIFIED:20241210T140624Z
UID:374623-1734197400-1734204600@diaridelmaestrat.com
SUMMARY:Benicarló - Taller didàctic familiar «Què ens conta la ceràmica»
DESCRIPTION:Per a xiquets i xiquetes de 3 a 12 anys\, acompanyats d’un adult. Taller gratuït amb inscripció prèvia
URL:https://diaridelmaestrat.com/agenda/benicarlo-taller-didactic-familiar-que-ens-conta-la-ceramica/
LOCATION:Museu de la Ciutat de Benicarló (MUCBE)\, Carrer de la Pau\, 2\, 12580 Benicarló\, Benicarló\, Castellón\, 12580\, España
CATEGORIES:BENICARLÓ,Nadal,Tallers
ATTACH;FMTTYPE=image/jpeg:https://diaridelmaestrat.com/wp-content/uploads/2024/12/1CoFjYvBV6w2ckAtJ8DMgmenLp3Xzw31NFyAVfST.jpg
END:VEVENT
BEGIN:VEVENT
DTSTART;VALUE=DATE:20241214
DTEND;VALUE=DATE:20241216
DTSTAMP:20260422T211738
CREATED:20241210T135320Z
LAST-MODIFIED:20241210T141414Z
UID:374619-1734134400-1734307199@diaridelmaestrat.com
SUMMARY:Benicarló - XXXV Fira de Sant Antoni Abat
DESCRIPTION:Annex cobert del Pavelló Poliesportiu\, av. de Catalunya\, c. de l’Abat Pere Boqués\, c. de Manuel Alvar\, c. d’Andalusia\, c. de les Illes Canàries i pl. de Mossén Tomàs
URL:https://diaridelmaestrat.com/agenda/benicarlo-xxxv-fira-de-sant-antoni-abat/
LOCATION:Benicarló
CATEGORIES:BENICARLÓ,Fira,Nadal
ATTACH;FMTTYPE=image/jpeg:https://diaridelmaestrat.com/wp-content/uploads/2024/12/Fira-Sant-Antoni-Benicarlo-Inscripcion.jpg
END:VEVENT
BEGIN:VEVENT
DTSTART;TZID=Europe/Helsinki:20241213T200000
DTEND;TZID=Europe/Helsinki:20241213T213000
DTSTAMP:20260422T211738
CREATED:20241210T134716Z
LAST-MODIFIED:20241210T134716Z
UID:374615-1734120000-1734125400@diaridelmaestrat.com
SUMMARY:Benicarló - Concert de Nadales Tradicionals
DESCRIPTION:
URL:https://diaridelmaestrat.com/agenda/benicarlo-concert-de-nadales-tradicionals/
LOCATION:Parroquia de Sant Pere Apòstol
CATEGORIES:BENICARLÓ,Concerts,Cultura,Nadal
ATTACH;FMTTYPE=image/jpeg:https://diaridelmaestrat.com/wp-content/uploads/2024/12/images-3.jpg
END:VEVENT
BEGIN:VEVENT
DTSTART;VALUE=DATE:20241019
DTEND;VALUE=DATE:20241020
DTSTAMP:20260422T211738
CREATED:20241015T130915Z
LAST-MODIFIED:20241015T130915Z
UID:364442-1729296000-1729382399@diaridelmaestrat.com
SUMMARY:Benicarló - Fira De La Joventut
DESCRIPTION:
URL:https://diaridelmaestrat.com/agenda/benicarlo-fira-de-la-joventut/
LOCATION:Plaça de la Constitució
CATEGORIES:BENICARLÓ
ATTACH;FMTTYPE=image/jpeg:https://diaridelmaestrat.com/wp-content/uploads/2024/10/FEED.jpg
END:VEVENT
BEGIN:VEVENT
DTSTART;VALUE=DATE:20241005
DTEND;VALUE=DATE:20241006
DTSTAMP:20260422T211738
CREATED:20241001T115004Z
LAST-MODIFIED:20241001T115004Z
UID:361719-1728086400-1728172799@diaridelmaestrat.com
SUMMARY:Benicarló - II Copa de la Diputació de Castelló de Kickboxing
DESCRIPTION:
URL:https://diaridelmaestrat.com/agenda/benicarlo-ii-copa-de-la-diputacio-de-castello-de-kickboxing/
LOCATION:Pavelló Municipal de Benicarló
CATEGORIES:BENICARLÓ,Esports
ATTACH;FMTTYPE=image/jpeg:https://diaridelmaestrat.com/wp-content/uploads/2024/09/25448e39-d2ba-465c-8692-81be642931db.jpeg
END:VEVENT
BEGIN:VEVENT
DTSTART;TZID=Europe/Helsinki:20240801T203000
DTEND;TZID=Europe/Helsinki:20240803T223000
DTSTAMP:20260422T211738
CREATED:20240702T115519Z
LAST-MODIFIED:20240702T115519Z
UID:344053-1722544200-1722724200@diaridelmaestrat.com
SUMMARY:Benicarló - Primer Festival BenicarlÓrgue
DESCRIPTION:
URL:https://diaridelmaestrat.com/agenda/benicarlo-primer-festival-benicarlorgue/
LOCATION:Església Parroquial de Sant Bertomeu\, Plaça de Sant Bartomeu\, 23\, 12580 Benicarló\, Benicarló\, Castellón\, 12580\, España
CATEGORIES:BENICARLÓ,Concerts
ATTACH;FMTTYPE=image/jpeg:https://diaridelmaestrat.com/wp-content/uploads/2024/07/30828-1.jpeg
END:VEVENT
BEGIN:VEVENT
DTSTART;TZID=Europe/Helsinki:20240727T210000
DTEND;TZID=Europe/Helsinki:20240727T220000
DTSTAMP:20260422T211738
CREATED:20240514T112440Z
LAST-MODIFIED:20240517T124051Z
UID:333838-1722114000-1722117600@diaridelmaestrat.com
SUMMARY:Benicarló - Representació de l'obra "Una de Romanos" de la companyia Afanias Teatro
DESCRIPTION:Taquilla anticipada: Centre d’Afanias\, Plaça de l’Ajuntament s/n des de les 17:00 h fins les 19:30 h
URL:https://diaridelmaestrat.com/agenda/benicarlo-representacio-de-lobra-una-de-romanos-de-la-companyia-afanias-teatro/
LOCATION:Auditori Pedro Mercader\, Carrer de València\, s/n\, 12580 Benicarló\, Benicarló\, Castellón\, 12580\, España
CATEGORIES:BENICARLÓ,Obres de Teatre
ATTACH;FMTTYPE=image/jpeg:https://diaridelmaestrat.com/wp-content/uploads/2024/05/806d917f-7a61-4863-aaa2-46a45d79cd16.jpeg
END:VEVENT
BEGIN:VEVENT
DTSTART;TZID=Europe/Helsinki:20240713T173000
DTEND;TZID=Europe/Helsinki:20240713T210000
DTSTAMP:20260422T211738
CREATED:20240702T114449Z
LAST-MODIFIED:20240702T114449Z
UID:344045-1720891800-1720904400@diaridelmaestrat.com
SUMMARY:Benicarló - Taller Familiar de Porta d'Espelmes Mediterrànies
DESCRIPTION:
URL:https://diaridelmaestrat.com/agenda/benicarlo-taller-familiar-de-porta-despelmes-mediterranies/
LOCATION:Museu de la Ciutat de Benicarló (MUCBE)\, Carrer de la Pau\, 2\, 12580 Benicarló\, Benicarló\, Castellón\, 12580\, España
CATEGORIES:BENICARLÓ,Cultura
ATTACH;FMTTYPE=image/jpeg:https://diaridelmaestrat.com/wp-content/uploads/2024/07/30842-1.jpeg
END:VEVENT
BEGIN:VEVENT
DTSTART;TZID=Europe/Helsinki:20240706T180000
DTEND;TZID=Europe/Helsinki:20240707T180000
DTSTAMP:20260422T211738
CREATED:20240702T113405Z
LAST-MODIFIED:20240702T113504Z
UID:344030-1720288800-1720375200@diaridelmaestrat.com
SUMMARY:Benicarló - Open Air Rave. Bló Electronic Music
DESCRIPTION:Venda de tiquets a entradasatualcance.com
URL:https://diaridelmaestrat.com/agenda/benicarlo-open-air-rave-blo-electronic-music/
CATEGORIES:BENICARLÓ,Concerts
ATTACH;FMTTYPE=image/jpeg:https://diaridelmaestrat.com/wp-content/uploads/2024/07/30810-1.jpeg
END:VEVENT
BEGIN:VEVENT
DTSTART;TZID=Europe/Helsinki:20240706T173000
DTEND;TZID=Europe/Helsinki:20240706T220000
DTSTAMP:20260422T211738
CREATED:20240702T114314Z
LAST-MODIFIED:20240702T114314Z
UID:344036-1720287000-1720303200@diaridelmaestrat.com
SUMMARY:Benicarló - Taller Familiar de Pintura en Llenç amb Textura d'Arena
DESCRIPTION:
URL:https://diaridelmaestrat.com/agenda/benicarlo-taller-familiar-de-pintura-en-llenc-amb-textura-darena/
LOCATION:Museu de la Ciutat de Benicarló (MUCBE)\, Carrer de la Pau\, 2\, 12580 Benicarló\, Benicarló\, Castellón\, 12580\, España
CATEGORIES:BENICARLÓ,Cultura
ATTACH;FMTTYPE=image/jpeg:https://diaridelmaestrat.com/wp-content/uploads/2024/07/30842-1.jpeg
END:VEVENT
BEGIN:VEVENT
DTSTART;TZID=Europe/Helsinki:20240705T200000
DTEND;TZID=Europe/Helsinki:20240705T230000
DTSTAMP:20260422T211738
CREATED:20240702T113100Z
LAST-MODIFIED:20240702T113108Z
UID:344025-1720209600-1720220400@diaridelmaestrat.com
SUMMARY:Benicarló - Mostra d'arts inclusives Mira'm
DESCRIPTION:
URL:https://diaridelmaestrat.com/agenda/benicarlo-mostra-darts-inclusives/
LOCATION:Passeig Ferreres Bretó
CATEGORIES:BENICARLÓ,Cultura,Exposicions
ATTACH;FMTTYPE=image/jpeg:https://diaridelmaestrat.com/wp-content/uploads/2024/07/30823-1.jpeg
END:VEVENT
BEGIN:VEVENT
DTSTART;TZID=Europe/Helsinki:20240705T093000
DTEND;TZID=Europe/Helsinki:20240705T140000
DTSTAMP:20260422T211738
CREATED:20240705T113522Z
LAST-MODIFIED:20240705T113522Z
UID:344364-1720171800-1720188000@diaridelmaestrat.com
SUMMARY:Peníscola / Benicarló - XXX Clásica Travesía Peníscola - Benicarló
DESCRIPTION:Sábado 20 de julio \nEl desafío 3k \n\nDistancia: 3.000m\nSalida: 09.30h\nLugar de salida: Gran Hotel (Peñíscola) Playa Norte\nLlegada: Playa del Morrongo (Benicarló)\n\nDomingo 21 de julio \nXXX Clásica de Natación Peñíscola- Benicarló \n\nDistancia: 8.000m\nSalida: 08.00h\nLugar de salida: Playa Norte\nLlegada: Playa del Morrongo (Benicarló)
URL:https://diaridelmaestrat.com/agenda/peniscola-benicarlo-xxx-clasica-travesia-peniscola-benicarlo/
LOCATION:Playa Norte
CATEGORIES:BENICARLÓ,Esports,PENÍSCOLA
ATTACH;FMTTYPE=image/jpeg:https://diaridelmaestrat.com/wp-content/uploads/2024/07/imagen14885g.jpg
END:VEVENT
END:VCALENDAR