BEGIN:VCALENDAR
VERSION:2.0
PRODID:-//Diari del Maestrat - ECPv6.4.0//NONSGML v1.0//EN
CALSCALE:GREGORIAN
METHOD:PUBLISH
X-WR-CALNAME:Diari del Maestrat
X-ORIGINAL-URL:https://diaridelmaestrat.com
X-WR-CALDESC:Events for Diari del Maestrat
REFRESH-INTERVAL;VALUE=DURATION:PT1H
X-Robots-Tag:noindex
X-PUBLISHED-TTL:PT1H
BEGIN:VTIMEZONE
TZID:Europe/Helsinki
BEGIN:DAYLIGHT
TZOFFSETFROM:+0200
TZOFFSETTO:+0300
TZNAME:EEST
DTSTART:20240331T010000
END:DAYLIGHT
BEGIN:STANDARD
TZOFFSETFROM:+0300
TZOFFSETTO:+0200
TZNAME:EET
DTSTART:20241027T010000
END:STANDARD
END:VTIMEZONE
BEGIN:VEVENT
DTSTART;TZID=Europe/Helsinki:20240512T120000
DTEND;TZID=Europe/Helsinki:20240512T131500
DTSTAMP:20260423T020148
CREATED:20240507T134338Z
LAST-MODIFIED:20240509T130150Z
UID:332019-1715515200-1715519700@diaridelmaestrat.com
SUMMARY:Vinaròs - Concert de "Michel Senar"
DESCRIPTION:
URL:https://diaridelmaestrat.com/agenda/concert-de-michel-senar-a-vinaros/
LOCATION:Patí del Mercat\, Plaça de Sant Telm\, 5\, Vinaròs\, Castellón\, 12500\, España
ATTACH;FMTTYPE=image/jpeg:https://diaridelmaestrat.com/wp-content/uploads/2024/05/michel-senar-1.jpg
END:VEVENT
BEGIN:VEVENT
DTSTART;TZID=Europe/Helsinki:20240512T120000
DTEND;TZID=Europe/Helsinki:20240512T124000
DTSTAMP:20260423T020148
CREATED:20240507T125654Z
LAST-MODIFIED:20240509T130119Z
UID:332000-1715515200-1715517600@diaridelmaestrat.com
SUMMARY:Vinaròs - Concert de "Wild Alkman"
DESCRIPTION:
URL:https://diaridelmaestrat.com/agenda/concert-de-wild-alkman-a-vinaros/
LOCATION:Auditori Municipal Wenceslao Ayguals de Izco\, Plaça de Sant Agustí\, 7\, 12500 Vinaròs\, Vinaròs\, Castellón\, 12500\, España
ATTACH;FMTTYPE=image/jpeg:https://diaridelmaestrat.com/wp-content/uploads/2024/05/wild-alkman.jpg
END:VEVENT
BEGIN:VEVENT
DTSTART;TZID=Europe/Helsinki:20240512T110000
DTEND;TZID=Europe/Helsinki:20240512T120000
DTSTAMP:20260423T020148
CREATED:20240507T125039Z
LAST-MODIFIED:20240509T130049Z
UID:331998-1715511600-1715515200@diaridelmaestrat.com
SUMMARY:Vinaròs - Sessió de "Pop&Tronic"
DESCRIPTION:
URL:https://diaridelmaestrat.com/agenda/sessio-de-poptronic-a-vinaros/
LOCATION:Patí del Mercat\, Plaça de Sant Telm\, 5\, Vinaròs\, Castellón\, 12500\, España
END:VEVENT
BEGIN:VEVENT
DTSTART;TZID=Europe/Helsinki:20240512T100000
DTEND;TZID=Europe/Helsinki:20240512T113000
DTSTAMP:20260423T020148
CREATED:20240507T124632Z
LAST-MODIFIED:20240509T125925Z
UID:331996-1715508000-1715513400@diaridelmaestrat.com
SUMMARY:Vinaròs - Taller de Miguel Bustos
DESCRIPTION:
URL:https://diaridelmaestrat.com/agenda/taller-de-miguel-bustos-a-vinaros/
LOCATION:Patí del Mercat\, Plaça de Sant Telm\, 5\, Vinaròs\, Castellón\, 12500\, España
END:VEVENT
BEGIN:VEVENT
DTSTART;TZID=Europe/Helsinki:20240511T203000
DTEND;TZID=Europe/Helsinki:20240511T213000
DTSTAMP:20260423T020148
CREATED:20240507T124522Z
LAST-MODIFIED:20240509T125723Z
UID:331993-1715459400-1715463000@diaridelmaestrat.com
SUMMARY:Vinaròs - Concert del grup "Spunky Clappers"
DESCRIPTION:
URL:https://diaridelmaestrat.com/agenda/concert-del-grup-spunky-clappers-a-vinaros/
LOCATION:Patí del Mercat\, Plaça de Sant Telm\, 5\, Vinaròs\, Castellón\, 12500\, España
ATTACH;FMTTYPE=image/png:https://diaridelmaestrat.com/wp-content/uploads/2024/05/spunky-clappers.png
END:VEVENT
BEGIN:VEVENT
DTSTART;TZID=Europe/Helsinki:20240511T192500
DTEND;TZID=Europe/Helsinki:20240511T202500
DTSTAMP:20260423T020148
CREATED:20240507T124240Z
LAST-MODIFIED:20240509T125709Z
UID:331990-1715455500-1715459100@diaridelmaestrat.com
SUMMARY:Vinaròs - Sessió de "Irene Cliptorians"
DESCRIPTION:
URL:https://diaridelmaestrat.com/agenda/sessio-de-irene-cliptorians-a-vinaros/
LOCATION:Patí del Mercat\, Plaça de Sant Telm\, 5\, Vinaròs\, Castellón\, 12500\, España
ATTACH;FMTTYPE=image/jpeg:https://diaridelmaestrat.com/wp-content/uploads/2024/05/irene-clitorians.jpg
END:VEVENT
BEGIN:VEVENT
DTSTART;TZID=Europe/Helsinki:20240511T192500
DTEND;TZID=Europe/Helsinki:20240511T202500
DTSTAMP:20260423T020148
CREATED:20240507T102758Z
LAST-MODIFIED:20240509T125658Z
UID:331908-1715455500-1715459100@diaridelmaestrat.com
SUMMARY:Vinaròs - Concert de "Petit Mal"
DESCRIPTION:
URL:https://diaridelmaestrat.com/agenda/concert-de-petit-mal-a-vinaros/
LOCATION:Auditori Municipal Wenceslao Ayguals de Izco\, Plaça de Sant Agustí\, 7\, 12500 Vinaròs\, Vinaròs\, Castellón\, 12500\, España
ATTACH;FMTTYPE=image/jpeg:https://diaridelmaestrat.com/wp-content/uploads/2024/05/petit-mal-1.jpg
END:VEVENT
BEGIN:VEVENT
DTSTART;TZID=Europe/Helsinki:20240511T190000
DTEND;TZID=Europe/Helsinki:20240511T203000
DTSTAMP:20260423T020148
CREATED:20240506T103243Z
LAST-MODIFIED:20240509T125634Z
UID:331519-1715454000-1715459400@diaridelmaestrat.com
SUMMARY:Vinaròs - Audició de piano de l’alumnat d’Esmuvi del professor Joan Vicent Lladosa.
DESCRIPTION:
URL:https://diaridelmaestrat.com/agenda/audicio-de-piano-de-lalumnat-desmuvi-del-professor-joan-vicent-lladosa/
ATTACH;FMTTYPE=image/jpeg:https://diaridelmaestrat.com/wp-content/uploads/2024/05/cartell-juanvi.jpg
END:VEVENT
BEGIN:VEVENT
DTSTART;TZID=Europe/Helsinki:20240511T182000
DTEND;TZID=Europe/Helsinki:20240511T192000
DTSTAMP:20260423T020148
CREATED:20240507T102710Z
LAST-MODIFIED:20240509T125623Z
UID:331905-1715451600-1715455200@diaridelmaestrat.com
SUMMARY:Vinaròs - Concert del grup "Exfan"
DESCRIPTION:
URL:https://diaridelmaestrat.com/agenda/concert-del-grup-exfan-a-vinaros/
LOCATION:Patí del Mercat\, Plaça de Sant Telm\, 5\, Vinaròs\, Castellón\, 12500\, España
ATTACH;FMTTYPE=image/jpeg:https://diaridelmaestrat.com/wp-content/uploads/2024/05/exfan-1.jpg
END:VEVENT
BEGIN:VEVENT
DTSTART;TZID=Europe/Helsinki:20240511T171500
DTEND;TZID=Europe/Helsinki:20240511T182000
DTSTAMP:20260423T020148
CREATED:20240507T102612Z
LAST-MODIFIED:20240509T125548Z
UID:331903-1715447700-1715451600@diaridelmaestrat.com
SUMMARY:Vinaròs - Concert del grup "Pleasant Dreams"
DESCRIPTION:
URL:https://diaridelmaestrat.com/agenda/concert-del-grup-pleasant-dreams-a-vinaros/
LOCATION:Auditori Municipal Wenceslao Ayguals de Izco\, Plaça de Sant Agustí\, 7\, 12500 Vinaròs\, Vinaròs\, Castellón\, 12500\, España
ATTACH;FMTTYPE=image/jpeg:https://diaridelmaestrat.com/wp-content/uploads/2024/05/pleasant-dreams.jpg
END:VEVENT
BEGIN:VEVENT
DTSTART;TZID=Europe/Helsinki:20240511T170000
DTEND;TZID=Europe/Helsinki:20240511T171500
DTSTAMP:20260423T020148
CREATED:20240507T102518Z
LAST-MODIFIED:20240509T125515Z
UID:331901-1715446800-1715447700@diaridelmaestrat.com
SUMMARY:Vinaròs - Poemaris de Paco Bastard
DESCRIPTION:
URL:https://diaridelmaestrat.com/agenda/poemaris-de-paco-bastard-a-vinaros/
LOCATION:Auditori Municipal Wenceslao Ayguals de Izco\, Plaça de Sant Agustí\, 7\, 12500 Vinaròs\, Vinaròs\, Castellón\, 12500\, España
END:VEVENT
BEGIN:VEVENT
DTSTART;TZID=Europe/Helsinki:20240511T161500
DTEND;TZID=Europe/Helsinki:20240511T182000
DTSTAMP:20260423T020148
CREATED:20240507T102440Z
LAST-MODIFIED:20240509T125423Z
UID:331898-1715444100-1715451600@diaridelmaestrat.com
SUMMARY:Vinaròs - Sessió de Tormix DJ
DESCRIPTION:
URL:https://diaridelmaestrat.com/agenda/sessio-de-tormix-dj-a-vinaros/
LOCATION:Patí del Mercat\, Plaça de Sant Telm\, 5\, Vinaròs\, Castellón\, 12500\, España
ATTACH;FMTTYPE=image/jpeg:https://diaridelmaestrat.com/wp-content/uploads/2024/05/tormix_dj.jpg
END:VEVENT
BEGIN:VEVENT
DTSTART;TZID=Europe/Helsinki:20240511T150000
DTEND;TZID=Europe/Helsinki:20240511T161500
DTSTAMP:20260423T020148
CREATED:20240507T102354Z
LAST-MODIFIED:20240509T125332Z
UID:331880-1715439600-1715444100@diaridelmaestrat.com
SUMMARY:Vinaròs - Concert de Jaques
DESCRIPTION:
URL:https://diaridelmaestrat.com/agenda/concert-de-jaques-a-vinaros/
LOCATION:Patí del Mercat\, Plaça de Sant Telm\, 5\, Vinaròs\, Castellón\, 12500\, España
ATTACH;FMTTYPE=image/jpeg:https://diaridelmaestrat.com/wp-content/uploads/2024/05/jaques.jpg
END:VEVENT
BEGIN:VEVENT
DTSTART;TZID=Europe/Helsinki:20240511T140500
DTEND;TZID=Europe/Helsinki:20240511T150000
DTSTAMP:20260423T020148
CREATED:20240507T102236Z
LAST-MODIFIED:20240509T125206Z
UID:331878-1715436300-1715439600@diaridelmaestrat.com
SUMMARY:Vinaròs - Concert del grup "Mi Lado Rebelde Soleado"
DESCRIPTION:
URL:https://diaridelmaestrat.com/agenda/concert-del-grup-mi-lado-rebelde-soleado/
LOCATION:Patí del Mercat\, Plaça de Sant Telm\, 5\, Vinaròs\, Castellón\, 12500\, España
ATTACH;FMTTYPE=image/jpeg:https://diaridelmaestrat.com/wp-content/uploads/2024/05/mlrs-1.jpg
END:VEVENT
BEGIN:VEVENT
DTSTART;TZID=Europe/Helsinki:20240511T130000
DTEND;TZID=Europe/Helsinki:20240511T140000
DTSTAMP:20260423T020148
CREATED:20240507T102153Z
LAST-MODIFIED:20240508T191807Z
UID:331876-1715432400-1715436000@diaridelmaestrat.com
SUMMARY:Vinaròs - Concert de Vicente Navarro
DESCRIPTION:
URL:https://diaridelmaestrat.com/agenda/concert-de-vicente-navarro/
LOCATION:Auditori Municipal Wenceslao Ayguals de Izco\, Plaça de Sant Agustí\, 7\, 12500 Vinaròs\, Vinaròs\, Castellón\, 12500\, España
ATTACH;FMTTYPE=image/jpeg:https://diaridelmaestrat.com/wp-content/uploads/2024/05/Vicent-Navarro-e1715195882767.jpg
END:VEVENT
BEGIN:VEVENT
DTSTART;TZID=Europe/Helsinki:20240511T100000
DTEND;TZID=Europe/Helsinki:20240512T190000
DTSTAMP:20260423T020148
CREATED:20240507T103929Z
LAST-MODIFIED:20240508T190754Z
UID:331910-1715421600-1715540400@diaridelmaestrat.com
SUMMARY:Peníscola - XIV Concurs de Tir i Arrossegament 2024
DESCRIPTION:El pròxim dissabte 11 i diumenge 12 de maig a l’antic camp de futbol de Peníscola\, se celebrarà l’edició 14 del Concurs de Tir i Arrossegament. Organitzat per la penya els Carreters de la població. A partir de les 10:00 hores.
URL:https://diaridelmaestrat.com/agenda/xiv-concurs-de-tir-i-arrossegament-a-peniscola-2024/
LOCATION:Antic Camp de Futbol Municipal\, Carrer de les Marjals\, 12598 Peníscola\, Peníscola\, Castellón\, 12598\, España
ATTACH;FMTTYPE=image/jpeg:https://diaridelmaestrat.com/wp-content/uploads/2024/05/73b99872-781c-4904-ab73-08c893a2e319.jpeg
END:VEVENT
BEGIN:VEVENT
DTSTART;TZID=Europe/Helsinki:20240511T100000
DTEND;TZID=Europe/Helsinki:20240511T113000
DTSTAMP:20260423T020148
CREATED:20240507T102058Z
LAST-MODIFIED:20240508T190719Z
UID:331873-1715421600-1715427000@diaridelmaestrat.com
SUMMARY:Vinaròs - Taller impartit per Juan Carlos Rayas
DESCRIPTION:
URL:https://diaridelmaestrat.com/agenda/taller-impartit-per-juan-carlos-rayas/
LOCATION:Patí del Mercat\, Plaça de Sant Telm\, 5\, Vinaròs\, Castellón\, 12500\, España
ATTACH;FMTTYPE=image/png:https://diaridelmaestrat.com/wp-content/uploads/2024/05/Juan-Carlos-Rayas.png
END:VEVENT
BEGIN:VEVENT
DTSTART;TZID=Europe/Helsinki:20240510T210000
DTEND;TZID=Europe/Helsinki:20240510T223000
DTSTAMP:20260423T020148
CREATED:20240507T102003Z
LAST-MODIFIED:20240508T190436Z
UID:331871-1715374800-1715380200@diaridelmaestrat.com
SUMMARY:Vinaròs - Concert acústic de "La Habitación Roja"
DESCRIPTION:Per a comprar les entrades\, accediu a aquest link
URL:https://diaridelmaestrat.com/agenda/concert-acustic-de-la-habitacion-roja/
LOCATION:Auditori Municipal Wenceslao Ayguals de Izco\, Plaça de Sant Agustí\, 7\, 12500 Vinaròs\, Vinaròs\, Castellón\, 12500\, España
ATTACH;FMTTYPE=image/jpeg:https://diaridelmaestrat.com/wp-content/uploads/2024/05/lhr-1.jpg
END:VEVENT
BEGIN:VEVENT
DTSTART;TZID=Europe/Helsinki:20240510T173000
DTEND;TZID=Europe/Helsinki:20240510T181500
DTSTAMP:20260423T020148
CREATED:20240507T101851Z
LAST-MODIFIED:20240508T190221Z
UID:331869-1715362200-1715364900@diaridelmaestrat.com
SUMMARY:Vinaròs - Presentació llibres "La Habitación Roja"
DESCRIPTION:Presentació dels llibres per part de Jorge i Pau\, integrants del grup “La Habitación Roja”
URL:https://diaridelmaestrat.com/agenda/presentacio-llibres-la-habitacion-roja/
LOCATION:Auditori Municipal Wenceslao Ayguals de Izco\, Plaça de Sant Agustí\, 7\, 12500 Vinaròs\, Vinaròs\, Castellón\, 12500\, España
ATTACH;FMTTYPE=image/jpeg:https://diaridelmaestrat.com/wp-content/uploads/2024/05/lhr.jpg
END:VEVENT
BEGIN:VEVENT
DTSTART;TZID=Europe/Helsinki:20240509T193000
DTEND;TZID=Europe/Helsinki:20240509T200000
DTSTAMP:20260423T020148
CREATED:20240507T101731Z
LAST-MODIFIED:20240508T190055Z
UID:331864-1715283000-1715284800@diaridelmaestrat.com
SUMMARY:Vinaròs - Inauguració de l'exposició de Juan Carlos Rayas
DESCRIPTION:Inauguració de l’exposició de Juan Carlos Rayas a l’Auditori Municipal
URL:https://diaridelmaestrat.com/agenda/inauguracio-de-lexposicio-de-juan-carlos-rayas/
LOCATION:Auditori Municipal Wenceslao Ayguals de Izco\, Plaça de Sant Agustí\, 7\, 12500 Vinaròs\, Vinaròs\, Castellón\, 12500\, España
ATTACH;FMTTYPE=image/png:https://diaridelmaestrat.com/wp-content/uploads/2024/05/Juan-Carlos-Rayas.png
END:VEVENT
BEGIN:VEVENT
DTSTART;TZID=Europe/Helsinki:20240509T180000
DTEND;TZID=Europe/Helsinki:20240509T190000
DTSTAMP:20260423T020148
CREATED:20240506T102843Z
LAST-MODIFIED:20240508T184719Z
UID:331507-1715277600-1715281200@diaridelmaestrat.com
SUMMARY:Vinaròs - Inauguració de l’exposició “Giner” de la Fundació Caixa Vinaròs.
DESCRIPTION:Col·labora: Fundació Caixa Vinaròs.
URL:https://diaridelmaestrat.com/agenda/inauguracio-de-lexposicio-giner-de-la-fundacio-caixa-vinaros/
LOCATION:Fundació Caixa Vinaròs\, Carrer de la Mare de Déu del Socors\, 64\, 12500 Vinaròs\, Castelló\, Vinaròs\, Castellón\, 12500\, España
ATTACH;FMTTYPE=image/jpeg:https://diaridelmaestrat.com/wp-content/uploads/2024/05/438163930_901724665086957_7246734078143127470_n.jpg
END:VEVENT
END:VCALENDAR