BEGIN:VCALENDAR
VERSION:2.0
PRODID:-//Diari del Maestrat - ECPv6.4.0//NONSGML v1.0//EN
CALSCALE:GREGORIAN
METHOD:PUBLISH
X-ORIGINAL-URL:https://diaridelmaestrat.com
X-WR-CALDESC:Events for Diari del Maestrat
REFRESH-INTERVAL;VALUE=DURATION:PT1H
X-Robots-Tag:noindex
X-PUBLISHED-TTL:PT1H
BEGIN:VTIMEZONE
TZID:Europe/Helsinki
BEGIN:DAYLIGHT
TZOFFSETFROM:+0200
TZOFFSETTO:+0300
TZNAME:EEST
DTSTART:20260329T010000
END:DAYLIGHT
BEGIN:STANDARD
TZOFFSETFROM:+0300
TZOFFSETTO:+0200
TZNAME:EET
DTSTART:20261025T010000
END:STANDARD
END:VTIMEZONE
BEGIN:VEVENT
DTSTART;TZID=Europe/Helsinki:20260403T093000
DTEND;TZID=Europe/Helsinki:20260403T100000
DTSTAMP:20260419T184829
CREATED:20260317T102523Z
LAST-MODIFIED:20260317T102523Z
UID:479592-1775208600-1775210400@diaridelmaestrat.com
SUMMARY:Vinaròs - Setmana Santa - Via Crucis Al Convent de la Divina Providència
DESCRIPTION:Se realizará por la zona peatonal exterior del Convento.
URL:https://diaridelmaestrat.com/agenda/vinaros-setmana-santa-via-crucis-al-convent-de-la-divina-providencia/
LOCATION:Convento Divina Providencia
CATEGORIES:Setmana Santa,VINARÒS
END:VEVENT
BEGIN:VEVENT
DTSTART;TZID=Europe/Helsinki:20260402T203000
DTEND;TZID=Europe/Helsinki:20260402T223000
DTSTAMP:20260419T184829
CREATED:20260317T102222Z
LAST-MODIFIED:20260317T102222Z
UID:479590-1775161800-1775169000@diaridelmaestrat.com
SUMMARY:Vinaròs - Setmana Santa - Processó de Dijous Sant
DESCRIPTION:Las Cofradías iniciarán la procesión desde la plaza Parroquial\, y continuará por plaza Jovellar\, calle Doctor Fleming\, avenida País Valencià\, calle Arcipreste Bono\, plaza San Antonio\, travesía Safont\, calle Mayor\, y finaliza en la plaza Parroquial. \nBANDAS DE MÚSICA: Banda de música Xertolina\, banda cornetas y tambores San Pedro\, banda cornetas y tambores Hermandad Jesús Cautivo y Ntra. Sra. de la Merced\, banda de bombos y tambores de la Cofradía del Cristo de la Paz\, banda bombos y tambores Cofradía Crist dels Mariners\, Agrupación Musical Jaume I de Castelló\, banda de música de Santa Magdalena de Pulpis. y la banda de música de la Societat Musical “La Alianza” de Vinaròs. \nAl finalizar la procesión\,\nHORA SANTA ANTE EL MONUMENTO.
URL:https://diaridelmaestrat.com/agenda/vinaros-setmana-santa-processo-de-dijous-sant/
LOCATION:Carrers del Centre de Vinaròs
CATEGORIES:Setmana Santa,VINARÒS
END:VEVENT
BEGIN:VEVENT
DTSTART;TZID=Europe/Helsinki:20260402T200000
DTEND;TZID=Europe/Helsinki:20260402T203000
DTSTAMP:20260419T184829
CREATED:20260317T102118Z
LAST-MODIFIED:20260317T102118Z
UID:479588-1775160000-1775161800@diaridelmaestrat.com
SUMMARY:Vinaròs - Setmana Santa - Pujada dels estandarts
DESCRIPTION:Acompañados por la banda cornetas y tambores Hermandad Jesús Cautivo y Ntra. Sra. de la Merced\, subida de los estandartes
URL:https://diaridelmaestrat.com/agenda/vinaros-setmana-santa-pujada-dels-estandarts/
LOCATION:Vinaròs
CATEGORIES:Setmana Santa,VINARÒS
END:VEVENT
BEGIN:VEVENT
DTSTART;TZID=Europe/Helsinki:20260402T194500
DTEND;TZID=Europe/Helsinki:20260402T200000
DTSTAMP:20260419T184829
CREATED:20260317T102028Z
LAST-MODIFIED:20260317T102028Z
UID:479585-1775159100-1775160000@diaridelmaestrat.com
SUMMARY:Vinaròs - Setmana Santa - Passacarrer de Bombos i Tambors
DESCRIPTION:
URL:https://diaridelmaestrat.com/agenda/vinaros-setmana-santa-passacarrer-de-bombos-i-tambors/
LOCATION:Vinaròs
CATEGORIES:Setmana Santa,VINARÒS
END:VEVENT
BEGIN:VEVENT
DTSTART;TZID=Europe/Helsinki:20260402T180000
DTEND;TZID=Europe/Helsinki:20260402T183000
DTSTAMP:20260419T184829
CREATED:20260317T101859Z
LAST-MODIFIED:20260317T101859Z
UID:479582-1775152800-1775154600@diaridelmaestrat.com
SUMMARY:Vinaròs - Setmana Santa - IX Toc Excepcional
DESCRIPTION:IX TOQUE EXCEPCIONAL en el campanario\, por la banda de bombos y tambores de la Cofradía del Cristo de la Paz
URL:https://diaridelmaestrat.com/agenda/vinaros-setmana-santa-ix-toc-excepcional/
LOCATION:Esglesia Arxiprestal de Vinaròs
CATEGORIES:Setmana Santa,VINARÒS
END:VEVENT
BEGIN:VEVENT
DTSTART;TZID=Europe/Helsinki:20260402T170000
DTEND;TZID=Europe/Helsinki:20260402T180000
DTSTAMP:20260419T184829
CREATED:20260317T025157Z
LAST-MODIFIED:20260317T025157Z
UID:479514-1775149200-1775152800@diaridelmaestrat.com
SUMMARY:Vinaròs - Setmana Santa - Exposició dels passos de la Setmana Santa
DESCRIPTION:
URL:https://diaridelmaestrat.com/agenda/vinaros-setmana-santa-exposicio-dels-passos-de-la-setmana-santa/
LOCATION:Plaça de l’Ajuntament
CATEGORIES:Setmana Santa,VINARÒS
END:VEVENT
BEGIN:VEVENT
DTSTART;TZID=Europe/Helsinki:20260401T050000
DTEND;TZID=Europe/Helsinki:20260401T070000
DTSTAMP:20260419T184829
CREATED:20260317T024931Z
LAST-MODIFIED:20260317T024931Z
UID:479511-1775019600-1775026800@diaridelmaestrat.com
SUMMARY:Vinaròs - Setmana Santa - Processó de la Matinada
DESCRIPTION:Desde el antiguo convento de San Agustín (actual Auditorio) por el siguiente recorrido: calle Mayor\, plaza Parroquial\, calle San Cristóbal\, calle Carreró\, calle Santa Marta\, plaza Padre Bover\, calle San Miguel\, plaza de los Tres Reyes\, calle San Pascual\, calle Santa Ana\, plaza San Valente\, calle del Ángel\, Paseo Colón\, y plaza San Agustín \nAcompañada por la Colla de Dolçaina i Tabal dels nanos i gegants de Vinaròs.
URL:https://diaridelmaestrat.com/agenda/vinaros-setmana-santa-processo-de-la-matinada/
LOCATION:Vinaròs
CATEGORIES:Setmana Santa,VINARÒS
END:VEVENT
BEGIN:VEVENT
DTSTART;TZID=Europe/Helsinki:20260331T203000
DTEND;TZID=Europe/Helsinki:20260331T213000
DTSTAMP:20260419T184829
CREATED:20260317T024745Z
LAST-MODIFIED:20260317T024745Z
UID:479509-1774989000-1774992600@diaridelmaestrat.com
SUMMARY:Vinaròs - Setmana Santa -  Celebració Comunitària de la Penitència
DESCRIPTION:
URL:https://diaridelmaestrat.com/agenda/vinaros-setmana-santa-celebracio-comunitaria-de-la-penitencia/
LOCATION:Esglesia Arxiprestal de Vinaròs
CATEGORIES:Setmana Santa,VINARÒS
END:VEVENT
BEGIN:VEVENT
DTSTART;TZID=Europe/Helsinki:20260329T190000
DTEND;TZID=Europe/Helsinki:20260329T200000
DTSTAMP:20260419T184829
CREATED:20260317T024633Z
LAST-MODIFIED:20260317T024633Z
UID:479507-1774810800-1774814400@diaridelmaestrat.com
SUMMARY:Vinaròs - Setmana Santa -  Missa en honor als confrares difunts
DESCRIPTION:
URL:https://diaridelmaestrat.com/agenda/vinaros-setmana-santa-missa-en-honor-als-confrares-difunts/
LOCATION:Esglesia Arxiprestal de Vinaròs
CATEGORIES:Setmana Santa,VINARÒS
END:VEVENT
BEGIN:VEVENT
DTSTART;TZID=Europe/Helsinki:20260329T183000
DTEND;TZID=Europe/Helsinki:20260329T203000
DTSTAMP:20260419T184829
CREATED:20260317T024536Z
LAST-MODIFIED:20260317T024536Z
UID:479505-1774809000-1774816200@diaridelmaestrat.com
SUMMARY:Vinaròs - Setmana Santa -  Representació de "Los 10 Mandamientos"
DESCRIPTION:Representación del Musical “Los 10 Mandamientos” a cargo de la Academia de Baile “Locura”.
URL:https://diaridelmaestrat.com/agenda/vinaros-setmana-santa-representacio-de-los-10-mandamientos/
LOCATION:Auditori Municipal Wenceslao Ayguals de Izco\, Plaça de Sant Agustí\, 7\, 12500 Vinaròs\, Vinaròs\, Castellón\, 12500\, España
CATEGORIES:Setmana Santa,VINARÒS
END:VEVENT
BEGIN:VEVENT
DTSTART;TZID=Europe/Helsinki:20260329T170000
DTEND;TZID=Europe/Helsinki:20260329T180000
DTSTAMP:20260419T184829
CREATED:20260317T024421Z
LAST-MODIFIED:20260317T024421Z
UID:479502-1774803600-1774807200@diaridelmaestrat.com
SUMMARY:Vinaròs - Setmana Santa - Via Crucis
DESCRIPTION:
URL:https://diaridelmaestrat.com/agenda/vinaros-setmana-santa-via-crucis/
LOCATION:Ermita de la Misericòrdia
CATEGORIES:Setmana Santa,VINARÒS
END:VEVENT
BEGIN:VEVENT
DTSTART;TZID=Europe/Helsinki:20260329T120000
DTEND;TZID=Europe/Helsinki:20260329T130000
DTSTAMP:20260419T184829
CREATED:20260317T024305Z
LAST-MODIFIED:20260317T024305Z
UID:479500-1774785600-1774789200@diaridelmaestrat.com
SUMMARY:Vinaròs - Setmana Santa - Processó Diumenge de Rams Església Arxiprestal
DESCRIPTION:Procesión por la calle Mayor\, plaza San Agustín\, Paseo Colón para la solemne Bendición de Ramos\, acompañados por la banda de bombos y tambores Cofradía del Cristo de la Paz. Seguidamente subida por calle del Ángel\, plaza San Valente y pasaje y plaza de la Comunión\, accediendo por la puerta plateresca a la Iglesia. A continuación\, celebración de la Santa Misa.
URL:https://diaridelmaestrat.com/agenda/vinaros-setmana-santa-processo-diumenge-de-rams-esglesia-arxiprestal/
LOCATION:Vinaròs
CATEGORIES:Setmana Santa,VINARÒS
END:VEVENT
BEGIN:VEVENT
DTSTART;TZID=Europe/Helsinki:20260329T110000
DTEND;TZID=Europe/Helsinki:20260329T120000
DTSTAMP:20260419T184829
CREATED:20260317T024147Z
LAST-MODIFIED:20260317T024147Z
UID:479498-1774782000-1774785600@diaridelmaestrat.com
SUMMARY:Vinaròs - Setmana Santa - Processó de la Borriquilla
DESCRIPTION:Procesión de la “Borriquilla”. Bendición solemne de Ramos en la Plaza 1º de Mayo (Pl. Santísimo) y procesión por la calle Arcipreste Bono hasta la Iglesia\, acompañada por la banda de cornetas y tambores de la Cofradía de Jesús Cautivo y Ntra. Sra. de la Merced. A continuación\, celebración de la Santa Misa.
URL:https://diaridelmaestrat.com/agenda/vinaros-setmana-santa-processo-de-la-borriquilla/
LOCATION:Vinaròs
CATEGORIES:Setmana Santa,VINARÒS
END:VEVENT
BEGIN:VEVENT
DTSTART;TZID=Europe/Helsinki:20260329T100000
DTEND;TZID=Europe/Helsinki:20260329T103000
DTSTAMP:20260419T184829
CREATED:20260317T024039Z
LAST-MODIFIED:20260317T024039Z
UID:479495-1774778400-1774780200@diaridelmaestrat.com
SUMMARY:Vinaròs - Setmana Santa - Benedicció de rams a l'Hogar Sant Sebastià
DESCRIPTION:Bendición solemne de Ramos y Procesión en el interior. \nA continuación\, celebración de la Santa Misa.
URL:https://diaridelmaestrat.com/agenda/vinaros-setmana-santa-benediccio-de-rams-a-lhogar-sant-sebastia/
LOCATION:Hogar San Sebastián
CATEGORIES:Setmana Santa,VINARÒS
END:VEVENT
BEGIN:VEVENT
DTSTART;TZID=Europe/Helsinki:20260328T213000
DTEND;TZID=Europe/Helsinki:20260328T233000
DTSTAMP:20260419T184829
CREATED:20260317T023909Z
LAST-MODIFIED:20260317T023909Z
UID:479493-1774733400-1774740600@diaridelmaestrat.com
SUMMARY:Vinaròs - Setmana Santa - "Los 10 Mandamientos"
DESCRIPTION:Representación del Musical “Los 10 Mandamientos” a cargo de la Academia de Baile “Locura”.
URL:https://diaridelmaestrat.com/agenda/vinaros-setmana-santa-los-10-mandamientos/
LOCATION:Auditori Municipal Wenceslao Ayguals de Izco\, Plaça de Sant Agustí\, 7\, 12500 Vinaròs\, Vinaròs\, Castellón\, 12500\, España
CATEGORIES:Representacions,Setmana Santa,VINARÒS
END:VEVENT
BEGIN:VEVENT
DTSTART;TZID=Europe/Helsinki:20260328T210000
DTEND;TZID=Europe/Helsinki:20260328T213000
DTSTAMP:20260419T184829
CREATED:20260317T023744Z
LAST-MODIFIED:20260317T023744Z
UID:479490-1774731600-1774733400@diaridelmaestrat.com
SUMMARY:Vinaròs - Setmana Santa - XIX trobada de bombos i tambors
DESCRIPTION:Concentración en la plaza Parroquial\, siguiendo por la calle Mayor\, travesía Safont\, plaza San Antonio\, calle Arcipreste Bono\, avenida País Valencià\, calle San Francisco\, plaza Jovellar\, hasta llegar nuevamente a la plaza Parroquial. \nParticiparán bandas de las provincias de Castellón\, Tarragona y Valencia. \nEl 1er toque lo realizará el Sr. Fede Bas Mariano\, con el bombo de Didac Mengual.
URL:https://diaridelmaestrat.com/agenda/vinaros-setmana-santa-xix-trobada-de-bombos-i-tambors/
LOCATION:Plaça de l’Ajuntament
CATEGORIES:Setmana Santa,VINARÒS
END:VEVENT
BEGIN:VEVENT
DTSTART;TZID=Europe/Helsinki:20260328T200000
DTEND;TZID=Europe/Helsinki:20260328T210000
DTSTAMP:20260419T184829
CREATED:20260317T023544Z
LAST-MODIFIED:20260317T023544Z
UID:479488-1774728000-1774731600@diaridelmaestrat.com
SUMMARY:Vinaròs - Setmana Santa - IIIº Festival de Música Sacra
DESCRIPTION:Concierto de Cámara: Quartet Cronos “Requiem” – -Wolfgang Amadeus Mozart
URL:https://diaridelmaestrat.com/agenda/vinaros-setmana-santa-iiio-festival-de-musica-sacra/
LOCATION:Església de Santa Magdalena
CATEGORIES:Concerts,VINARÒS
END:VEVENT
BEGIN:VEVENT
DTSTART;TZID=Europe/Helsinki:20260328T120000
DTEND;TZID=Europe/Helsinki:20260328T130000
DTSTAMP:20260419T184829
CREATED:20260317T023428Z
LAST-MODIFIED:20260317T023428Z
UID:479486-1774699200-1774702800@diaridelmaestrat.com
SUMMARY:Vinaròs - Setmana Santa - Processó Infantil
DESCRIPTION:La procesión se iniciará desde la plaza Parroquial\, y continuará por la plaza Jovellar\, calle Socorro\, plaza San Antonio\, travesía Safont\, calle Mayor\, y finalizará en la plaza Parroquial. \nAcompañarán la procesión los niños de las bandas de bombos y tambores de la Semana Santa de Vinaròs y la banda infantil y juvenil de la Societat Musical “La Alianza”.
URL:https://diaridelmaestrat.com/agenda/vinaros-setmana-santa-processo-infantil/
LOCATION:Vinaròs
CATEGORIES:Setmana Santa,VINARÒS
END:VEVENT
BEGIN:VEVENT
DTSTART;TZID=Europe/Helsinki:20260327T210000
DTEND;TZID=Europe/Helsinki:20260327T210000
DTSTAMP:20260419T184829
CREATED:20260317T023313Z
LAST-MODIFIED:20260317T023313Z
UID:479484-1774645200-1774645200@diaridelmaestrat.com
SUMMARY:Vinaròs - Setmana Santa - Actuació de la Coral Juvenil Sant Sebastià
DESCRIPTION:Ubi Caritas – Jacques Berthier.\nAdoramus te\, Christe – Quirino Gasparini.\n\nDirector: Carlos Vives Sebastià
URL:https://diaridelmaestrat.com/agenda/vinaros-setmana-santa-actuacio-de-la-coral-juvenil-sant-sebastia/
LOCATION:Esglesia Arxiprestal de Vinaròs
CATEGORIES:Setmana Santa,VINARÒS
END:VEVENT
BEGIN:VEVENT
DTSTART;TZID=Europe/Helsinki:20260327T203000
DTEND;TZID=Europe/Helsinki:20260327T210000
DTSTAMP:20260419T184829
CREATED:20260317T023211Z
LAST-MODIFIED:20260317T023211Z
UID:479482-1774643400-1774645200@diaridelmaestrat.com
SUMMARY:Vinaròs - Setmana Santa - Pregó de la Setmana Santa
DESCRIPTION:A cargo del Hno. Francisco Agramunt Redó\, Hermano Hospitalario de Sant Joan de Déu. \n 
URL:https://diaridelmaestrat.com/agenda/vinaros-setmana-santa-prego-de-la-setmana-santa/
LOCATION:Esglesia Arxiprestal de Vinaròs
CATEGORIES:Setmana Santa,VINARÒS
END:VEVENT
BEGIN:VEVENT
DTSTART;TZID=Europe/Helsinki:20260327T200000
DTEND;TZID=Europe/Helsinki:20260327T203000
DTSTAMP:20260419T184829
CREATED:20260317T023054Z
LAST-MODIFIED:20260317T023054Z
UID:479479-1774641600-1774643400@diaridelmaestrat.com
SUMMARY:Vinaròs - Setmana Santa - Processó de Divendres de Dolors
DESCRIPTION:Los estandartes de las Cofradías acompañarán a la Virgen de los Dolores desde la Iglesia Santa Magdalena por la calle Arcipreste Bono\, plaza San Antonio\, travesía Safont\, calle Mayor\, y hasta la Iglesia Arciprestal\, acompañados por la banda de Bombos y Tambores Cofradía Crist dels Mariners.
URL:https://diaridelmaestrat.com/agenda/vinaros-setmana-santa-processo-de-divendres-de-dolors/
LOCATION:Vinaròs
CATEGORIES:Setmana Santa,VINARÒS
END:VEVENT
BEGIN:VEVENT
DTSTART;TZID=Europe/Helsinki:20260327T193000
DTEND;TZID=Europe/Helsinki:20260327T200000
DTSTAMP:20260419T184829
CREATED:20260317T022950Z
LAST-MODIFIED:20260317T022950Z
UID:479477-1774639800-1774641600@diaridelmaestrat.com
SUMMARY:Vinaròs - Setmana Santa - Toc a càrrec de les bandes de Bombos i Tambors
DESCRIPTION:Toques a cargo de las bandas. Inicia desde la Iglesia Santa Magdalena\, la Banda de bombos y tambores SAN PEDRO; la banda de bombos y tambores COFRADÍA CRISTO DE LA PAZ desde la plaza de los Tres Reyes; y la banda de bombos y tambores HERMANDAD JESÚS CAUTIVO Y NUESTRA SEÑORA DE LA MERCED desde la Plaza Jovellar. \n 
URL:https://diaridelmaestrat.com/agenda/vinaros-setmana-santa-toc-a-carrec-de-les-bandes-de-bombos-i-tambors/
CATEGORIES:Setmana Santa,VINARÒS
END:VEVENT
BEGIN:VEVENT
DTSTART;TZID=Europe/Helsinki:20260326T190000
DTEND;TZID=Europe/Helsinki:20260326T210000
DTSTAMP:20260419T184829
CREATED:20260319T230531Z
LAST-MODIFIED:20260319T230531Z
UID:480428-1774551600-1774558800@diaridelmaestrat.com
SUMMARY:Vinaròs - Projecció de la pel·lícula "Blondi"
DESCRIPTION:Direcció: Dolores Fonzi.\n\nSinopsi: Blondi i Mirko\, a simplevista\, semblen una parella ideal. Els encanta viure junts\, escolten la mateixa música\, veuen les mateixes películes\, els agrada fumar porros\,anar a concerts\, tenir els mateixos amics\, tot és perfecte entre ells… però\, encara que semblen gairebé de la mateixa edat\, Blondi és la mare de Mirko.
URL:https://diaridelmaestrat.com/agenda/vinaros-projeccio-de-la-pel%c2%b7licula-blondi/
LOCATION:Centre de Coneixement de Vinaròs
CATEGORIES:Cinema,Cultura,VINARÒS
ATTACH;FMTTYPE=image/jpeg:https://diaridelmaestrat.com/wp-content/uploads/2026/03/images-1.jpg
END:VEVENT
BEGIN:VEVENT
DTSTART;TZID=Europe/Helsinki:20260322T170000
DTEND;TZID=Europe/Helsinki:20260322T183000
DTSTAMP:20260419T184829
CREATED:20260317T022732Z
LAST-MODIFIED:20260317T022732Z
UID:479475-1774198800-1774204200@diaridelmaestrat.com
SUMMARY:Vinaròs - Setmana Santa - Representación de la Passió de Castellvell del Camp
DESCRIPTION:A cargo de grupo “La Teatr’era” \nEs una pasión teatralizada con textos recogidos de tres pasiones de Cataluña: Ulldecona\, Esparraguera i Olesa de Montserrat.
URL:https://diaridelmaestrat.com/agenda/vinaros-setmana-santa-representacion-de-la-passio-de-castellvell-del-camp/
LOCATION:Esglesia Arxiprestal de Vinaròs
CATEGORIES:Representacions,Setmana Santa,VINARÒS
END:VEVENT
BEGIN:VEVENT
DTSTART;TZID=Europe/Helsinki:20260322T130000
DTEND;TZID=Europe/Helsinki:20260322T133000
DTSTAMP:20260419T184829
CREATED:20260317T022606Z
LAST-MODIFIED:20260317T022606Z
UID:479472-1774184400-1774186200@diaridelmaestrat.com
SUMMARY:Vinaròs - Setmana Santa - Inauguració de la Exposició de la Setmana Santa de Vinaròs i de las miniatures
DESCRIPTION:Del 15 de marzo al 5 de abril.\nHorario de visitas: martes de 18h a 21h y de miércoles a domingo de 10h a 13h y de 18h a 21h.
URL:https://diaridelmaestrat.com/agenda/vinaros-setmana-santa-inauguracio-de-la-exposicio-de-la-setmana-santa-de-vinaros-i-de-las-miniatures/
LOCATION:Auditori Municipal Wenceslao Ayguals de Izco\, Plaça de Sant Agustí\, 7\, 12500 Vinaròs\, Vinaròs\, Castellón\, 12500\, España
CATEGORIES:Exposicions,Setmana Santa,VINARÒS
END:VEVENT
BEGIN:VEVENT
DTSTART;TZID=Europe/Helsinki:20260321T200000
DTEND;TZID=Europe/Helsinki:20260321T210000
DTSTAMP:20260419T184829
CREATED:20260317T022433Z
LAST-MODIFIED:20260317T022433Z
UID:479470-1774123200-1774126800@diaridelmaestrat.com
SUMMARY:Vinaròs - Setmana Santa - Conferència d'Helena Román
DESCRIPTION:“Un museu sense murs ni vitrines: La Setmana Santa de Vinaròs\, l’art surt al carrer”
URL:https://diaridelmaestrat.com/agenda/vinaros-setmana-santa-conferencia-dhelena-roman/
LOCATION:Esglesia Arxiprestal de Vinaròs
CATEGORIES:Setmana Santa,VINARÒS
END:VEVENT
BEGIN:VEVENT
DTSTART;TZID=Europe/Helsinki:20260321T120000
DTEND;TZID=Europe/Helsinki:20260321T130000
DTSTAMP:20260419T184829
CREATED:20260319T225921Z
LAST-MODIFIED:20260319T225921Z
UID:480424-1774094400-1774098000@diaridelmaestrat.com
SUMMARY:Vinaròs - IIIª Celebració Del Dia Mundial De La Poesia
DESCRIPTION:Poeta convidada: Aina García Carbó. \nPoeta homenatjat: Manel García Grau. \nRecordarem l’escriptora: Zoraida Burgos. \nParticipen: Aina García\, Amàlia Roig\, Anna Alcalde\, Aurora Ferrere\, Carles Lluch\, Elena Fora\, Emili Gil\, Joan Bel\, Josep M. San Abdón\, Josep M. Pla\, Mabel Vives\, Maisé Royo\, Marta Tena i Mentxu Monedero. \nPíndoles musicals: Ariadna Besalduch.
URL:https://diaridelmaestrat.com/agenda/vinaros-iiia-celebracio-del-dia-mundial-de-la-poesia/
LOCATION:Biblioteca de Vinaròs
CATEGORIES:Cultura,VINARÒS
ATTACH;FMTTYPE=image/png:https://diaridelmaestrat.com/wp-content/uploads/2026/03/Dia-mundial-de-la-poesia-2026-cartell_0-1-e1774005552233.png
END:VEVENT
BEGIN:VEVENT
DTSTART;TZID=Europe/Helsinki:20260319T130000
DTEND;TZID=Europe/Helsinki:20260319T133000
DTSTAMP:20260419T184829
CREATED:20260221T171437Z
LAST-MODIFIED:20260221T171437Z
UID:473736-1773925200-1773927000@diaridelmaestrat.com
SUMMARY:Benicarló - Falles - Mascletà
DESCRIPTION:
URL:https://diaridelmaestrat.com/agenda/benicarlo-falles-mascleta-4/
LOCATION:Plaça de la Constitució de Benicarló
CATEGORIES:BENICARLÓ,Falles
ATTACH;FMTTYPE=image/jpeg:https://diaridelmaestrat.com/wp-content/uploads/2026/02/Fallas.-Mascleta-de-colores-VV-20481_1024.jpg
END:VEVENT
BEGIN:VEVENT
DTSTART;TZID=Europe/Helsinki:20260319T100000
DTEND;TZID=Europe/Helsinki:20260319T110000
DTSTAMP:20260419T184829
CREATED:20260221T171316Z
LAST-MODIFIED:20260221T171316Z
UID:473734-1773914400-1773918000@diaridelmaestrat.com
SUMMARY:Benicarló - Falles - Missa En Honor A Sant Josep
DESCRIPTION:
URL:https://diaridelmaestrat.com/agenda/benicarlo-falles-missa-en-honor-a-sant-josep/
LOCATION:Església de San Bertomeu
CATEGORIES:BENICARLÓ,Falles
ATTACH;FMTTYPE=image/jpeg:https://diaridelmaestrat.com/wp-content/uploads/2025/03/p1-37.jpg
END:VEVENT
BEGIN:VEVENT
DTSTART;VALUE=DATE:20260319
DTEND;VALUE=DATE:20260320
DTSTAMP:20260419T184829
CREATED:20260221T171903Z
LAST-MODIFIED:20260221T171903Z
UID:473738-1773878400-1773964799@diaridelmaestrat.com
SUMMARY:Benicarló - Falles - Nit de la Cremà
DESCRIPTION:
URL:https://diaridelmaestrat.com/agenda/benicarlo-falles-nit-de-la-crema/
LOCATION:Benicarló
CATEGORIES:BENICARLÓ,Falles
ATTACH;FMTTYPE=image/jpeg:https://diaridelmaestrat.com/wp-content/uploads/2023/03/Sin-titulo-1-copia-5.jpg
END:VEVENT
END:VCALENDAR