BEGIN:VCALENDAR
VERSION:2.0
PRODID:-//Diari del Maestrat - ECPv6.4.0//NONSGML v1.0//EN
CALSCALE:GREGORIAN
METHOD:PUBLISH
X-WR-CALNAME:Diari del Maestrat
X-ORIGINAL-URL:https://diaridelmaestrat.com
X-WR-CALDESC:Events for Diari del Maestrat
REFRESH-INTERVAL;VALUE=DURATION:PT1H
X-Robots-Tag:noindex
X-PUBLISHED-TTL:PT1H
BEGIN:VTIMEZONE
TZID:Europe/Helsinki
BEGIN:DAYLIGHT
TZOFFSETFROM:+0200
TZOFFSETTO:+0300
TZNAME:EEST
DTSTART:20240331T010000
END:DAYLIGHT
BEGIN:STANDARD
TZOFFSETFROM:+0300
TZOFFSETTO:+0200
TZNAME:EET
DTSTART:20241027T010000
END:STANDARD
END:VTIMEZONE
BEGIN:VEVENT
DTSTART;TZID=Europe/Helsinki:20240905T080000
DTEND;TZID=Europe/Helsinki:20240922T170000
DTSTAMP:20260423T005506
CREATED:20240909T125845Z
LAST-MODIFIED:20240909T125845Z
UID:355841-1725523200-1727024400@diaridelmaestrat.com
SUMMARY:Vinaròs - Exposició de Rosa Febrer Marqués
DESCRIPTION:
URL:https://diaridelmaestrat.com/agenda/vinaros-exposicio-de-rosa-febrer-marques/
LOCATION:Auditori Municipal Wenceslao Ayguals de Izco\, Plaça de Sant Agustí\, 7\, 12500 Vinaròs\, Vinaròs\, Castellón\, 12500\, España
CATEGORIES:Exposicions,VINARÒS
ATTACH;FMTTYPE=image/jpeg:https://diaridelmaestrat.com/wp-content/uploads/2024/09/CArtell-713x1024-2.jpg
END:VEVENT
BEGIN:VEVENT
DTSTART;TZID=Europe/Helsinki:20240906T203000
DTEND;TZID=Europe/Helsinki:20240906T223000
DTSTAMP:20260423T005506
CREATED:20240522T113417Z
LAST-MODIFIED:20240522T113417Z
UID:335938-1725654600-1725661800@diaridelmaestrat.com
SUMMARY:Alcanar - Sopar Estellés amb Pau Albajos
DESCRIPTION:Aforament màxim: 50 persones. \nResum de l’acte: \nVicent Andrés Estellés. La veu d’un poble és el títol de la primera biografia del poeta valencià escrita per Pau Alabajos i editada per Sembra Llibres. Aquesta obra\, que serà a les llibreries el proper 31 de gener\, ens acosta al recorregut vital del poeta de Burjassot amb motiu de la celebració del centenari del seu naixement. De fet\, el llibre se suma a la celebració popular del Cent d’Estellés al País Valencià i a l’Any Estellés a Catalunya. \nEls detalls d’aquesta obra única es podran descobrir en les presentacions que es faran el proper 6 de febrer a L’Octubre Centre de Cultura Contemporània de València\, i el 15 de febrer a la llibreria Ona de Barcelona.
URL:https://diaridelmaestrat.com/agenda/alcanar-sopar-estelles-amb-pau-albajos/
LOCATION:Ermita del Remei\, Carretera Alcanar - Ulldecona\, s/n\, 43530 Alcanar\, Alcanar\, Tarragona\, 43530\, España
CATEGORIES:Alcanar,COMARQUES,Conferències
ATTACH;FMTTYPE=image/jpeg:https://diaridelmaestrat.com/wp-content/uploads/2024/05/225763.jpg
END:VEVENT
BEGIN:VEVENT
DTSTART;TZID=Europe/Helsinki:20240910T080000
DTEND;TZID=Europe/Helsinki:20240910T170000
DTSTAMP:20260423T005506
CREATED:20240910T105719Z
LAST-MODIFIED:20240910T105719Z
UID:356142-1725955200-1725987600@diaridelmaestrat.com
SUMMARY:Peníscola - I Dia de Concurs de Ganaderies
DESCRIPTION:Bous de la ganaderia Benavent i solta de vaquilles per la platja de la ganaderia Bous La Ribera.
URL:https://diaridelmaestrat.com/agenda/peniscola-i-dia-de-concurs-de-ganaderies/
LOCATION:Plaça De Bous
CATEGORIES:Espectacles Taurins,PENÍSCOLA
ATTACH;FMTTYPE=image/png:https://diaridelmaestrat.com/wp-content/uploads/2024/09/cartell1-731x1024-1.png
END:VEVENT
BEGIN:VEVENT
DTSTART;TZID=Europe/Helsinki:20240910T110000
DTEND;TZID=Europe/Helsinki:20240910T120000
DTSTAMP:20260423T005506
CREATED:20240910T120417Z
LAST-MODIFIED:20240910T120417Z
UID:356166-1725966000-1725969600@diaridelmaestrat.com
SUMMARY:Peníscola - Celebració de la Santa Missa
DESCRIPTION:A l’acabar\, homenatge als octogenaris. El Grup de Moros i Cristians i el Grup Infantil de Danses dedicaran als nostres majors la seva emocionant demostració.
URL:https://diaridelmaestrat.com/agenda/peniscola-celebracio-de-la-santa-missa/
LOCATION:Capella de Santa Ana
CATEGORIES:PENÍSCOLA
ATTACH;FMTTYPE=image/png:https://diaridelmaestrat.com/wp-content/uploads/2024/09/cartell1-731x1024-1.png
END:VEVENT
BEGIN:VEVENT
DTSTART;TZID=Europe/Helsinki:20240910T130000
DTEND;TZID=Europe/Helsinki:20240910T140000
DTSTAMP:20260423T005506
CREATED:20240910T105107Z
LAST-MODIFIED:20240910T105111Z
UID:356131-1725973200-1725976800@diaridelmaestrat.com
SUMMARY:Peníscola - Inauguració Exposició de Bonsais
DESCRIPTION:Horari (de 11.00h a 13.00h y de 18.00h a 21.00h)
URL:https://diaridelmaestrat.com/agenda/peniscola-inauguracio-exposicio-de-bonsais/
LOCATION:Portal Fosc
CATEGORIES:Exposicions,PENÍSCOLA
ATTACH;FMTTYPE=image/png:https://diaridelmaestrat.com/wp-content/uploads/2024/09/cartell1-731x1024-1.png
END:VEVENT
BEGIN:VEVENT
DTSTART;TZID=Europe/Helsinki:20240910T163000
DTEND;TZID=Europe/Helsinki:20240910T170000
DTSTAMP:20260423T005506
CREATED:20240910T105509Z
LAST-MODIFIED:20240910T105509Z
UID:356139-1725985800-1725987600@diaridelmaestrat.com
SUMMARY:Peníscola - Inici de la Festa Taurina
DESCRIPTION:Passeig anunciador de la Festa Taurina per la Reina de les Festes i la seva Cort d’Honor\, Comissió Taurina\, acompanyats per la Xaranga All i Pebre de Peñíscola. \nEls primers jònencs estaran dedicats a la població femenina. \nRecorregut: Av Espanya fins a la Plaça de Bous.
URL:https://diaridelmaestrat.com/agenda/peniscola-inici-de-la-festa-taurina/
LOCATION:Avinguda Espanya
CATEGORIES:PENÍSCOLA
ATTACH;FMTTYPE=image/png:https://diaridelmaestrat.com/wp-content/uploads/2024/09/cartell1-731x1024-1.png
END:VEVENT
BEGIN:VEVENT
DTSTART;TZID=Europe/Helsinki:20240910T183000
DTEND;TZID=Europe/Helsinki:20240910T183000
DTSTAMP:20260423T005506
CREATED:20240910T105949Z
LAST-MODIFIED:20240910T105949Z
UID:356145-1725993000-1725993000@diaridelmaestrat.com
SUMMARY:Peníscola - Ruta Coordinadora de Penyes "A Peu de Carrer"
DESCRIPTION:Ruta de la Penya l’Espardenya i Penya en Almíbar con la animación de la Xaranga All i Pebre\, anunciant el primer dia d’apertura del Recinte de Penyes.
URL:https://diaridelmaestrat.com/agenda/peniscola-ruta-coordinadora-de-penyes-a-peu-de-carrer/
LOCATION:Recinte de Penyes
CATEGORIES:PENÍSCOLA
ATTACH;FMTTYPE=image/png:https://diaridelmaestrat.com/wp-content/uploads/2024/09/cartell1-731x1024-1.png
END:VEVENT
BEGIN:VEVENT
DTSTART;TZID=Europe/Helsinki:20240910T200000
DTEND;TZID=Europe/Helsinki:20240910T220000
DTSTAMP:20260423T005506
CREATED:20240909T130736Z
LAST-MODIFIED:20240909T130736Z
UID:355848-1725998400-1726005600@diaridelmaestrat.com
SUMMARY:Vinaròs - Copa Comunitat Valenciana: Club Volei Vinaròs vs UPV Léleman Conqueridor
DESCRIPTION:
URL:https://diaridelmaestrat.com/agenda/vinaros-copa-comunitat-valenciana-club-volei-vinaros-vs-upv-leleman-conqueridor/
LOCATION:Pavelló Poliesportiu de Vinaròs\, Av. de Tarragona\, 12500 Vinaròs\, Vinaròs\, Castellón\, 12500\, España
CATEGORIES:Esports,VINARÒS
ATTACH;FMTTYPE=image/jpeg:https://diaridelmaestrat.com/wp-content/uploads/2024/09/459079731_865825999007826_7704822314027614278_n.jpg
END:VEVENT
BEGIN:VEVENT
DTSTART;TZID=Europe/Helsinki:20240910T230000
DTEND;TZID=Europe/Helsinki:20240910T230000
DTSTAMP:20260423T005506
CREATED:20240910T110158Z
LAST-MODIFIED:20240910T110158Z
UID:356149-1726009200-1726009200@diaridelmaestrat.com
SUMMARY:Peníscola - Bou Embolat
DESCRIPTION:
URL:https://diaridelmaestrat.com/agenda/peniscola-bou-embolat/
LOCATION:Plaça De Bous
CATEGORIES:Espectacles Taurins,PENÍSCOLA
ATTACH;FMTTYPE=image/png:https://diaridelmaestrat.com/wp-content/uploads/2024/09/cartell1-731x1024-1.png
END:VEVENT
BEGIN:VEVENT
DTSTART;TZID=Europe/Helsinki:20240911T000000
DTEND;TZID=Europe/Helsinki:20240911T010000
DTSTAMP:20260423T005506
CREATED:20240910T122315Z
LAST-MODIFIED:20240910T122315Z
UID:356204-1726012800-1726016400@diaridelmaestrat.com
SUMMARY:Peníscola - Animació de la Xaranga All i Pebre
DESCRIPTION:
URL:https://diaridelmaestrat.com/agenda/peniscola-animacio-de-la-xaranga-all-i-pebre/
LOCATION:Carrer Saíz de Carlos
CATEGORIES:PENÍSCOLA
ATTACH;FMTTYPE=image/png:https://diaridelmaestrat.com/wp-content/uploads/2024/09/cartell1-731x1024-1.png
END:VEVENT
BEGIN:VEVENT
DTSTART;TZID=Europe/Helsinki:20240911T000000
DTEND;TZID=Europe/Helsinki:20240911T060000
DTSTAMP:20260423T005506
CREATED:20240910T122419Z
LAST-MODIFIED:20240910T122419Z
UID:356207-1726012800-1726034400@diaridelmaestrat.com
SUMMARY:Peníscola - Nit de Disfresses
DESCRIPTION:
URL:https://diaridelmaestrat.com/agenda/peniscola-nit-de-disfresses/
LOCATION:Penya En Almíbar
CATEGORIES:PENÍSCOLA
ATTACH;FMTTYPE=image/png:https://diaridelmaestrat.com/wp-content/uploads/2024/09/cartell1-731x1024-1.png
END:VEVENT
BEGIN:VEVENT
DTSTART;TZID=Europe/Helsinki:20240911T000000
DTEND;TZID=Europe/Helsinki:20240911T060000
DTSTAMP:20260423T005506
CREATED:20240910T122537Z
LAST-MODIFIED:20240910T122537Z
UID:356209-1726012800-1726034400@diaridelmaestrat.com
SUMMARY:Peníscola - "Carnaval Mi Amor"
DESCRIPTION:
URL:https://diaridelmaestrat.com/agenda/peniscola-carnaval-mi-amor/
LOCATION:Penya L’Espardenya
CATEGORIES:Carnaval,PENÍSCOLA
ATTACH;FMTTYPE=image/png:https://diaridelmaestrat.com/wp-content/uploads/2024/09/cartell1-731x1024-1.png
END:VEVENT
BEGIN:VEVENT
DTSTART;TZID=Europe/Helsinki:20240911T000000
DTEND;TZID=Europe/Helsinki:20240911T170000
DTSTAMP:20260423T005506
CREATED:20240910T110455Z
LAST-MODIFIED:20240910T110455Z
UID:356151-1726012800-1726074000@diaridelmaestrat.com
SUMMARY:Peníscola - Animació de la Xaranga All I Pebre de Peníscola
DESCRIPTION:
URL:https://diaridelmaestrat.com/agenda/peniscola-animacio-de-la-xaranga-all-i-pebre-de-peniscola/
LOCATION:Carrer Saíz de Carlos
CATEGORIES:PENÍSCOLA
ATTACH;FMTTYPE=image/png:https://diaridelmaestrat.com/wp-content/uploads/2024/09/cartell1-731x1024-1.png
END:VEVENT
BEGIN:VEVENT
DTSTART;TZID=Europe/Helsinki:20240911T001500
DTEND;TZID=Europe/Helsinki:20240911T060000
DTSTAMP:20260423T005506
CREATED:20240910T110648Z
LAST-MODIFIED:20240910T110648Z
UID:356154-1726013700-1726034400@diaridelmaestrat.com
SUMMARY:Peníscola - Fluor Party. Penya en Almíbar
DESCRIPTION:
URL:https://diaridelmaestrat.com/agenda/peniscola-fluor-party-penya-en-almibar/
CATEGORIES:Festes,PENÍSCOLA
ATTACH;FMTTYPE=image/png:https://diaridelmaestrat.com/wp-content/uploads/2024/09/cartell1-731x1024-1.png
END:VEVENT
BEGIN:VEVENT
DTSTART;TZID=Europe/Helsinki:20240911T001500
DTEND;TZID=Europe/Helsinki:20240911T060000
DTSTAMP:20260423T005506
CREATED:20240910T112601Z
LAST-MODIFIED:20240910T112601Z
UID:356157-1726013700-1726034400@diaridelmaestrat.com
SUMMARY:Peníscola - Opening Party
DESCRIPTION:
URL:https://diaridelmaestrat.com/agenda/peniscola-opening-party/
CATEGORIES:Festes,PENÍSCOLA
ATTACH;FMTTYPE=image/png:https://diaridelmaestrat.com/wp-content/uploads/2024/09/cartell1-731x1024-1.png
END:VEVENT
BEGIN:VEVENT
DTSTART;TZID=Europe/Helsinki:20240911T013000
DTEND;TZID=Europe/Helsinki:20240911T030000
DTSTAMP:20260423T005506
CREATED:20240910T113050Z
LAST-MODIFIED:20240910T113050Z
UID:356160-1726018200-1726023600@diaridelmaestrat.com
SUMMARY:Peníscola - Encierro "No Pasarán"
DESCRIPTION:Bous: La Ribera.
URL:https://diaridelmaestrat.com/agenda/peniscola-encierro-no-pasaran/
LOCATION:Carrer Saíz de Carlos
CATEGORIES:Espectacles Taurins,PENÍSCOLA
ATTACH;FMTTYPE=image/png:https://diaridelmaestrat.com/wp-content/uploads/2024/09/cartell1-731x1024-1.png
END:VEVENT
BEGIN:VEVENT
DTSTART;TZID=Europe/Helsinki:20240911T030000
DTEND;TZID=Europe/Helsinki:20240911T040000
DTSTAMP:20260423T005506
CREATED:20240910T113226Z
LAST-MODIFIED:20240910T113226Z
UID:356162-1726023600-1726027200@diaridelmaestrat.com
SUMMARY:Peníscola - Llançament ós oliva
DESCRIPTION:Inscripcions a la barra
URL:https://diaridelmaestrat.com/agenda/peniscola-llancament-os-oliva/
LOCATION:Penya En Almíbar
CATEGORIES:PENÍSCOLA
ATTACH;FMTTYPE=image/png:https://diaridelmaestrat.com/wp-content/uploads/2024/09/cartell1-731x1024-1.png
END:VEVENT
BEGIN:VEVENT
DTSTART;TZID=Europe/Helsinki:20240911T030000
DTEND;TZID=Europe/Helsinki:20240911T050000
DTSTAMP:20260423T005506
CREATED:20240910T123138Z
LAST-MODIFIED:20240910T123138Z
UID:356212-1726023600-1726030800@diaridelmaestrat.com
SUMMARY:Peníscola - Beer Pong
DESCRIPTION:Inscripcions: Penya L’Espardenya.\nPreu: 5 euros per parella.
URL:https://diaridelmaestrat.com/agenda/peniscola-beer-pong/
LOCATION:Penya L’Espardenya
CATEGORIES:PENÍSCOLA
ATTACH;FMTTYPE=image/png:https://diaridelmaestrat.com/wp-content/uploads/2024/09/cartell1-731x1024-1.png
END:VEVENT
BEGIN:VEVENT
DTSTART;TZID=Europe/Helsinki:20240911T140000
DTEND;TZID=Europe/Helsinki:20240911T170000
DTSTAMP:20260423T005506
CREATED:20240910T120605Z
LAST-MODIFIED:20240910T120605Z
UID:356184-1726063200-1726074000@diaridelmaestrat.com
SUMMARY:Peníscola - Menjar de germanor
DESCRIPTION:
URL:https://diaridelmaestrat.com/agenda/peniscola-menjar-de-germanor/
LOCATION:Camping Edén
CATEGORIES:PENÍSCOLA
ATTACH;FMTTYPE=image/png:https://diaridelmaestrat.com/wp-content/uploads/2024/09/cartell1-731x1024-1.png
END:VEVENT
BEGIN:VEVENT
DTSTART;TZID=Europe/Helsinki:20240911T173000
DTEND;TZID=Europe/Helsinki:20240911T220000
DTSTAMP:20260423T005506
CREATED:20240910T120922Z
LAST-MODIFIED:20240910T120922Z
UID:356187-1726075800-1726092000@diaridelmaestrat.com
SUMMARY:Peníscola - Torneig de Futbolí
DESCRIPTION:
URL:https://diaridelmaestrat.com/agenda/peniscola-torneig-de-futboli/
LOCATION:Cocteleria Maria Caipirnha
CATEGORIES:PENÍSCOLA
ATTACH;FMTTYPE=image/png:https://diaridelmaestrat.com/wp-content/uploads/2024/09/cartell1-731x1024-1.png
END:VEVENT
BEGIN:VEVENT
DTSTART;TZID=Europe/Helsinki:20240911T180000
DTEND;TZID=Europe/Helsinki:20240911T200000
DTSTAMP:20260423T005506
CREATED:20240910T121121Z
LAST-MODIFIED:20240910T121121Z
UID:356191-1726077600-1726084800@diaridelmaestrat.com
SUMMARY:Peníscola - Gran entrada de bous infantils\, bou de vila i bou embolat infantil
DESCRIPTION:
URL:https://diaridelmaestrat.com/agenda/peniscola-gran-entrada-de-bous-infantils-bou-de-vila-i-bou-embolat-infantil/
LOCATION:Plaça De Bous
CATEGORIES:PENÍSCOLA
ATTACH;FMTTYPE=image/png:https://diaridelmaestrat.com/wp-content/uploads/2024/09/cartell1-731x1024-1.png
END:VEVENT
BEGIN:VEVENT
DTSTART;TZID=Europe/Helsinki:20240911T183000
DTEND;TZID=Europe/Helsinki:20240911T220000
DTSTAMP:20260423T005506
CREATED:20240910T121615Z
LAST-MODIFIED:20240910T121615Z
UID:356193-1726079400-1726092000@diaridelmaestrat.com
SUMMARY:Peníscola - Torneig de futbol sala 3x3
DESCRIPTION:Preu: 10 euros per equip.\nInscripcions: penyaespardenyapeniscola@gmail.com i al compte d’Instagram @penya_espardenya
URL:https://diaridelmaestrat.com/agenda/peniscola-torneig-de-futbol-sala-3x3/
LOCATION:Penya L’Espardenya
CATEGORIES:Esports,PENÍSCOLA
ATTACH;FMTTYPE=image/png:https://diaridelmaestrat.com/wp-content/uploads/2024/09/cartell1-731x1024-1.png
END:VEVENT
BEGIN:VEVENT
DTSTART;TZID=Europe/Helsinki:20240911T193000
DTEND;TZID=Europe/Helsinki:20240911T210000
DTSTAMP:20260423T005506
CREATED:20240620T101641Z
LAST-MODIFIED:20240620T101641Z
UID:341753-1726083000-1726088400@diaridelmaestrat.com
SUMMARY:Ulldecona - Representació de l'espectacle de Carles Sans
DESCRIPTION:‘
URL:https://diaridelmaestrat.com/agenda/ulldecona-representacio-de-lespectacle-de-carles-sans/
LOCATION:Teatre Orfeó Montsià
CATEGORIES:Ulldecona
ATTACH;FMTTYPE=image/jpeg:https://diaridelmaestrat.com/wp-content/uploads/2024/06/Por-fin-solo-Cartell-Cedida-Cia.jpg
END:VEVENT
BEGIN:VEVENT
DTSTART;TZID=Europe/Helsinki:20240911T210000
DTEND;TZID=Europe/Helsinki:20240911T230000
DTSTAMP:20260423T005506
CREATED:20240910T121856Z
LAST-MODIFIED:20240910T121856Z
UID:356197-1726088400-1726095600@diaridelmaestrat.com
SUMMARY:Peníscola - Presentació Oficial del Peníscola Futbol Sala
DESCRIPTION:
URL:https://diaridelmaestrat.com/agenda/peniscola-presentacio-oficial-del-peniscola-futbol-sala/
LOCATION:Il Capo Peníscola
CATEGORIES:Esports,PENÍSCOLA
ATTACH;FMTTYPE=image/png:https://diaridelmaestrat.com/wp-content/uploads/2024/09/cartell1-731x1024-1.png
END:VEVENT
BEGIN:VEVENT
DTSTART;TZID=Europe/Helsinki:20240911T220000
DTEND;TZID=Europe/Helsinki:20240912T220000
DTSTAMP:20260423T005506
CREATED:20240910T122044Z
LAST-MODIFIED:20240910T122044Z
UID:356201-1726092000-1726178400@diaridelmaestrat.com
SUMMARY:Peníscola - Actuació de l'"Antologia de la Revista"
DESCRIPTION:Entrada: 2 euros.
URL:https://diaridelmaestrat.com/agenda/peniscola-actuacio-de-lantologia-de-la-revista/
LOCATION:Parador de Festes
CATEGORIES:Obres de Teatre,PENÍSCOLA
ATTACH;FMTTYPE=image/png:https://diaridelmaestrat.com/wp-content/uploads/2024/09/cartell1-731x1024-1.png
END:VEVENT
BEGIN:VEVENT
DTSTART;TZID=Europe/Helsinki:20240912T200000
DTEND;TZID=Europe/Helsinki:20240915T140000
DTSTAMP:20260423T005506
CREATED:20240912T112336Z
LAST-MODIFIED:20240912T112336Z
UID:356597-1726171200-1726408800@diaridelmaestrat.com
SUMMARY:Alcossebre - HyD Custom Maestrat
DESCRIPTION:Dijous 12: \n\n20:00 h: Apertura\n23:00 h: Música Disco 80/90.\n\nDivendres 13: \n\n17:00 h: Apertura\n21:30 h: Caldereta de corder per als inscrits.\n23:00 h: Concert del grup FIVE.\n00:00 h: Concert del grup Kasparov.\n\nDissabte 14: \n\n09:30 h: Reapertura d’inscripcions.\n14:00 h: Paella monumental inscrits.\n19:00 h: Ruta turística amb parada.\n20:30 h: Tardeo amb el grup Rumba Sound.\n23:00 h: Concert del grup “Big Rock Experience”\n00:00 h: Concert del grup “La Tribu Obembe”.\n\nDivendres 15: \n\n09:30 h: Reapertura d’inscripcions.\n10:00 h: Esmorzar d’inscrits.\n12:00 h: Vermut i tapa despedida. Concert de “Pepa Blasco”.
URL:https://diaridelmaestrat.com/agenda/alcossebre-hyd-custom-maestrat/
LOCATION:Alcossebre
CATEGORIES:Alcalà – Alcossebre
ATTACH;FMTTYPE=image/jpeg:https://diaridelmaestrat.com/wp-content/uploads/2024/09/custom-prog.jpg
END:VEVENT
BEGIN:VEVENT
DTSTART;TZID=Europe/Helsinki:20240913T080000
DTEND;TZID=Europe/Helsinki:20240929T170000
DTSTAMP:20260423T005506
CREATED:20240911T110541Z
LAST-MODIFIED:20240911T110541Z
UID:356482-1726214400-1727629200@diaridelmaestrat.com
SUMMARY:Vinaròs - "Vinaròs de Tapa en Tapa"
DESCRIPTION:
URL:https://diaridelmaestrat.com/agenda/vinaros-vinaros-de-tapa-en-tapa/
LOCATION:Vinaròs
CATEGORIES:Gastronomia,VINARÒS
ATTACH;FMTTYPE=image/jpeg:https://diaridelmaestrat.com/wp-content/uploads/2024/09/Cartell-Tapa-en-Tapa.jpg
END:VEVENT
BEGIN:VEVENT
DTSTART;TZID=Europe/Helsinki:20240913T193000
DTEND;TZID=Europe/Helsinki:20240913T203000
DTSTAMP:20260423T005506
CREATED:20240909T113626Z
LAST-MODIFIED:20240909T113626Z
UID:355765-1726255800-1726259400@diaridelmaestrat.com
SUMMARY:Vinaròs - Acte Inaugural d'Inici de Curs de l'Escola de Música "La Alianza"
DESCRIPTION:
URL:https://diaridelmaestrat.com/agenda/vinaros-acte-inaugural-dinici-de-curs-de-lescola-de-musica-la-alianza/
LOCATION:Auditori Municipal Wenceslao Ayguals de Izco\, Plaça de Sant Agustí\, 7\, 12500 Vinaròs\, Vinaròs\, Castellón\, 12500\, España
CATEGORIES:Música,VINARÒS
ATTACH;FMTTYPE=image/jpeg:https://diaridelmaestrat.com/wp-content/uploads/2024/09/IMG_3582-scaled-1.jpg
END:VEVENT
BEGIN:VEVENT
DTSTART;TZID=Europe/Helsinki:20240914T093000
DTEND;TZID=Europe/Helsinki:20240915T193000
DTSTAMP:20260423T005506
CREATED:20240910T095311Z
LAST-MODIFIED:20240910T095311Z
UID:356110-1726306200-1726428600@diaridelmaestrat.com
SUMMARY:Torreblanca/Xert - VIII Campionat Autonòmic de Frare
DESCRIPTION:
URL:https://diaridelmaestrat.com/agenda/torreblanca-xert-viii-campionat-autonomic-de-frare/
LOCATION:Pavelló Poliesportiu de Torreblanca
CATEGORIES:Esports,Torreblanca,Xert
ATTACH;FMTTYPE=image/jpeg:https://diaridelmaestrat.com/wp-content/uploads/2024/09/Cartel-pilota-Torreblanca-2024.jpeg
END:VEVENT
BEGIN:VEVENT
DTSTART;TZID=Europe/Helsinki:20240914T100000
DTEND;TZID=Europe/Helsinki:20240914T143000
DTSTAMP:20260423T005506
CREATED:20240910T102636Z
LAST-MODIFIED:20240910T102636Z
UID:356115-1726308000-1726324200@diaridelmaestrat.com
SUMMARY:Ares - Taller de Caligrafía Tradicional
DESCRIPTION:
URL:https://diaridelmaestrat.com/agenda/ares-taller-de-caligrafia-tradicional/
LOCATION:Telecentre
CATEGORIES:Ares,COMARQUES
ATTACH;FMTTYPE=image/jpeg:https://diaridelmaestrat.com/wp-content/uploads/2024/09/ARES-TALLER-CALIGRAFIA.jpeg
END:VEVENT
END:VCALENDAR