BEGIN:VCALENDAR
VERSION:2.0
PRODID:-//Diari del Maestrat - ECPv6.4.0//NONSGML v1.0//EN
CALSCALE:GREGORIAN
METHOD:PUBLISH
X-WR-CALNAME:Diari del Maestrat
X-ORIGINAL-URL:https://diaridelmaestrat.com
X-WR-CALDESC:Events for Diari del Maestrat
REFRESH-INTERVAL;VALUE=DURATION:PT1H
X-Robots-Tag:noindex
X-PUBLISHED-TTL:PT1H
BEGIN:VTIMEZONE
TZID:Europe/Helsinki
BEGIN:DAYLIGHT
TZOFFSETFROM:+0200
TZOFFSETTO:+0300
TZNAME:EEST
DTSTART:20250330T010000
END:DAYLIGHT
BEGIN:STANDARD
TZOFFSETFROM:+0300
TZOFFSETTO:+0200
TZNAME:EET
DTSTART:20251026T010000
END:STANDARD
END:VTIMEZONE
BEGIN:VEVENT
DTSTART;TZID=Europe/Helsinki:20251002T180000
DTEND;TZID=Europe/Helsinki:20251002T193000
DTSTAMP:20260421T211749
CREATED:20251002T125547Z
LAST-MODIFIED:20251002T125547Z
UID:440402-1759428000-1759433400@diaridelmaestrat.com
SUMMARY:Vinaròs - Presentació del llibre "La Sotana Del Crimen"
DESCRIPTION:A càrrec de Juan Martínez Luque i la regidora de Cultura de l’Ajuntament de Vinaròs\, Mercedes García.
URL:https://diaridelmaestrat.com/agenda/vinaros-presentacio-del-llibre-la-sotana-del-crimen/
LOCATION:Biblioteca de Vinaròs
CATEGORIES:Presentació de Llibres,VINARÒS
ATTACH;FMTTYPE=image/jpeg:https://diaridelmaestrat.com/wp-content/uploads/2025/10/presentacio-llibre-la-sotana-amb-mercedes_page-0001-1.jpg
END:VEVENT
BEGIN:VEVENT
DTSTART;TZID=Europe/Helsinki:20251002T190000
DTEND;TZID=Europe/Helsinki:20251002T200000
DTSTAMP:20260421T211749
CREATED:20250930T115612Z
LAST-MODIFIED:20250930T115612Z
UID:440015-1759431600-1759435200@diaridelmaestrat.com
SUMMARY:Vinaròs - Conferència "Estimem Estellés"
DESCRIPTION:
URL:https://diaridelmaestrat.com/agenda/vinaros-conferencia-estimem-estelles/
LOCATION:Auditori Carles Santos\, C/Socors\, 64\, Vinaròs\, Castellón\, 12500\, España
CATEGORIES:Conferències,VINARÒS
ATTACH;FMTTYPE=image/jpeg:https://diaridelmaestrat.com/wp-content/uploads/2025/09/554980406_1268310925094994_3016623398728762484_n.jpg
END:VEVENT
BEGIN:VEVENT
DTSTART;TZID=Europe/Helsinki:20251003T170000
DTEND;TZID=Europe/Helsinki:20251003T200000
DTSTAMP:20260421T211749
CREATED:20251002T130242Z
LAST-MODIFIED:20251002T130242Z
UID:440405-1759510800-1759521600@diaridelmaestrat.com
SUMMARY:Vinaròs - IV Jornada de Dol Gestacional\, Perinatal i Neonatal
DESCRIPTION:La jornada arrancarà a les 17:00 h amb la benvinguda a càrrec del regidor d’Infància\, Família i Joventut\, Juan Francisco Calvo\, i la regidora de Serveis Socials\, Marcela Barbé. A continuació\, començarà la programació amb la conferència “Com acompanyar un dol invisible“\, a càrrec de la presidenta de l’Associació “Libèl·lules dels Estels”\, Teresa Domingo. \nSeguidament\, a les 17:45 es realitzarà la conferència “Dol perinatal – reptes compartits entre famílies i professionals“\, a càrrec de Pilar Gómez-Ulla. Gómez-Ulla és psicòloga\, fundadora de la xarxa “El Hueco de mi Vientre”\, coautora del llibre “Duelo perinatal” i docent de l’Institut Europeu de Salut Perinatal. \nLa jornada finalitzarà amb una taula rodona moderada pel periodista Jonathan Fariñas\, que comptarà amb la participació de Laura Román\, ginecòloga de l’Hospital de Vinaròs; Marta Ferrer\, comare de l’Hospital de Vinaròs; Cristina Tomàs\, llevadora de l’Hospital Verge de la Cinta de Tortosa i Mercè Villamayor\, psicòloga del Servei d’Informació d’Atenció a les Dones (SIAD) i de l’Associació “Libèl·lules dels Estels”.
URL:https://diaridelmaestrat.com/agenda/vinaros-iv-jornada-de-dol-gestacional-perinatal-i-neonatal/
LOCATION:Biblioteca de Vinaròs
CATEGORIES:Conferències,VINARÒS
ATTACH;FMTTYPE=image/jpeg:https://diaridelmaestrat.com/wp-content/uploads/2025/09/2b391a0d-fe20-43c2-b5e0-c0dbf09c75d6.jpeg
END:VEVENT
BEGIN:VEVENT
DTSTART;TZID=Europe/Helsinki:20251004T200000
DTEND;TZID=Europe/Helsinki:20251004T210000
DTSTAMP:20260421T211749
CREATED:20251002T130658Z
LAST-MODIFIED:20251002T130658Z
UID:440408-1759608000-1759611600@diaridelmaestrat.com
SUMMARY:Vinaròs - Concert de la Carta Pobla de la Banda Simfònica de "La Alianza"
DESCRIPTION:
URL:https://diaridelmaestrat.com/agenda/vinaros-concert-de-la-carta-pobla-de-la-banda-simfonica-de-la-alianza/
LOCATION:Auditori Municipal Wenceslao Ayguals de Izco\, Plaça de Sant Agustí\, 7\, 12500 Vinaròs\, Vinaròs\, Castellón\, 12500\, España
CATEGORIES:Concerts,VINARÒS
ATTACH;FMTTYPE=image/jpeg:https://diaridelmaestrat.com/wp-content/uploads/2025/10/PROGRAMA-04-10-2025-1.jpg
END:VEVENT
BEGIN:VEVENT
DTSTART;TZID=Europe/Helsinki:20251010T200000
DTEND;TZID=Europe/Helsinki:20251010T210000
DTSTAMP:20260421T211749
CREATED:20250930T120306Z
LAST-MODIFIED:20250930T120306Z
UID:440017-1760126400-1760130000@diaridelmaestrat.com
SUMMARY:Vinaròs - Conferència "Idees Que Canvien El Món: Com Les Patents Impulsen La Innovació Tecnològica"
DESCRIPTION:A càrrec de Carmen Borja
URL:https://diaridelmaestrat.com/agenda/vinaros-conferencia-idees-que-canvien-el-mon-com-les-patents-impulsen-la-innovacio-tecnologica/
LOCATION:Auditori Carles Santos\, C/Socors\, 64\, Vinaròs\, Castellón\, 12500\, España
CATEGORIES:Conferències,VINARÒS
ATTACH;FMTTYPE=image/jpeg:https://diaridelmaestrat.com/wp-content/uploads/2025/09/556032627_1270684764857610_2189924624866856674_n.jpg
END:VEVENT
BEGIN:VEVENT
DTSTART;TZID=Europe/Helsinki:20251016T193000
DTEND;TZID=Europe/Helsinki:20251016T203000
DTSTAMP:20260421T211749
CREATED:20250930T121232Z
LAST-MODIFIED:20250930T121232Z
UID:440019-1760643000-1760646600@diaridelmaestrat.com
SUMMARY:Vinaròs - Conferència "Quan La Tecnologia Ens Atrapa: Addiccions Digitals I Salut Emotional"
DESCRIPTION:A càrrec de Patricia Gual
URL:https://diaridelmaestrat.com/agenda/vinaros-conferencia-quan-la-tecnologia-ens-atrapa-addiccions-digitals-i-salut-emotional/
LOCATION:Auditori Carles Santos\, C/Socors\, 64\, Vinaròs\, Castellón\, 12500\, España
CATEGORIES:Conferències,VINARÒS
ATTACH;FMTTYPE=image/jpeg:https://diaridelmaestrat.com/wp-content/uploads/2025/09/Cartell-Cicle-conf-cientifiques-Seu-Nord.jpg
END:VEVENT
BEGIN:VEVENT
DTSTART;TZID=Europe/Helsinki:20251017T193000
DTEND;TZID=Europe/Helsinki:20251017T203000
DTSTAMP:20260421T211749
CREATED:20250930T121912Z
LAST-MODIFIED:20250930T121912Z
UID:440022-1760729400-1760733000@diaridelmaestrat.com
SUMMARY:Vinaròs - Conferència "Analisi Comparativa De Les Obres "Sevilla" i "Fnac" Compostes Per Carles Santos"
DESCRIPTION:A càrrec de Juan Antonio Serrano Luciano
URL:https://diaridelmaestrat.com/agenda/vinaros-conferencia-analisi-comparativa-de-les-obres-sevilla-i-fnac-compostes-per-carles-santos/
LOCATION:Auditori Carles Santos\, C/Socors\, 64\, Vinaròs\, Castellón\, 12500\, España
CATEGORIES:Conferències,VINARÒS
ATTACH;FMTTYPE=image/jpeg:https://diaridelmaestrat.com/wp-content/uploads/2025/09/557666317_1270685118190908_1038010577364760613_n.jpg
END:VEVENT
END:VCALENDAR