BEGIN:VCALENDAR
VERSION:2.0
PRODID:-//Diari del Maestrat - ECPv6.4.0//NONSGML v1.0//EN
CALSCALE:GREGORIAN
METHOD:PUBLISH
X-ORIGINAL-URL:https://diaridelmaestrat.com
X-WR-CALDESC:Events for Diari del Maestrat
REFRESH-INTERVAL;VALUE=DURATION:PT1H
X-Robots-Tag:noindex
X-PUBLISHED-TTL:PT1H
BEGIN:VTIMEZONE
TZID:Europe/Helsinki
BEGIN:DAYLIGHT
TZOFFSETFROM:+0200
TZOFFSETTO:+0300
TZNAME:EEST
DTSTART:20250330T010000
END:DAYLIGHT
BEGIN:STANDARD
TZOFFSETFROM:+0300
TZOFFSETTO:+0200
TZNAME:EET
DTSTART:20251026T010000
END:STANDARD
END:VTIMEZONE
BEGIN:VEVENT
DTSTART;TZID=Europe/Helsinki:20251128T080000
DTEND;TZID=Europe/Helsinki:20251205T170000
DTSTAMP:20260421T182739
CREATED:20251126T111537Z
LAST-MODIFIED:20251126T111604Z
UID:454802-1764316800-1764954000@diaridelmaestrat.com
SUMMARY:Exposició de Fotografia de COCEMFE (del 28 de novembre al 5 de desembre)
DESCRIPTION:
URL:https://diaridelmaestrat.com/agenda/exposicio-de-fotografia-de-cocemfe-del-28-de-novembre-al-5-de-desembre/
LOCATION:Castellón
CATEGORIES:BENICARLÓ
END:VEVENT
BEGIN:VEVENT
DTSTART;TZID=Europe/Helsinki:20251207T190000
DTEND;TZID=Europe/Helsinki:20251207T200000
DTSTAMP:20260421T182739
CREATED:20251117T105348Z
LAST-MODIFIED:20251117T105348Z
UID:451547-1765134000-1765137600@diaridelmaestrat.com
SUMMARY:Vinaròs - Concert de la Coral de la Lira Ampostina i l'Orfeó Vinarossenc
DESCRIPTION:
URL:https://diaridelmaestrat.com/agenda/vinaros-concert-de-la-coral-de-la-lira-ampostina-i-lorfeo-vinarossenc/
LOCATION:Auditori Municipal Wenceslao Ayguals de Izco\, Plaça de Sant Agustí\, 7\, 12500 Vinaròs\, Vinaròs\, Castellón\, 12500\, España
CATEGORIES:Concerts,VINARÒS
END:VEVENT
BEGIN:VEVENT
DTSTART;TZID=Europe/Helsinki:20251212T200000
DTEND;TZID=Europe/Helsinki:20251212T210000
DTSTAMP:20260421T182739
CREATED:20251117T105610Z
LAST-MODIFIED:20251117T105610Z
UID:451550-1765569600-1765573200@diaridelmaestrat.com
SUMMARY:Vinaròs - Concert de percussió "Kokoro"
DESCRIPTION:Núria Andorrà: Destacada percussionista i improvisadora contemporània espanyola\, especialment reconeguda per la seua capacitat per a tractar la percussió com un instrument de ple dret en el món de la música experimental. \nLa seua obra Kokoro\, llançada en 2018 (gravada en directe el 24 d’octubre de 2017 en L’Antic Teatre de Barcelona)\, és un àlbum íntim i profundament emocional. Totes les composicions són creació seua\, capturades amb gravació\, mescla i masterització a càrrec de Roc Mateu\, amb portada dissenyada per Eva Ibáñez. El repertori de Kokoro (que significa “cor” en japonès) evoca estats emocionals essencials: Love\, Admiration\, Hate\, Desire\, Joy i Grief. Interpretades amb sensibilitat i intensitat\, aquestes peces mostren una exploració introspectiva i poètica de l’espai sonor i emocional\, que eleva la percussió més enllà del que és purament rítmic \nPreu: 5€
URL:https://diaridelmaestrat.com/agenda/vinaros-concert-de-percussio-kokoro/
LOCATION:Auditori Municipal Wenceslao Ayguals de Izco\, Plaça de Sant Agustí\, 7\, 12500 Vinaròs\, Vinaròs\, Castellón\, 12500\, España
CATEGORIES:Concerts,VINARÒS
END:VEVENT
BEGIN:VEVENT
DTSTART;TZID=Europe/Helsinki:20251213T113000
DTEND;TZID=Europe/Helsinki:20251213T123000
DTSTAMP:20260421T182739
CREATED:20251117T105945Z
LAST-MODIFIED:20251117T105945Z
UID:451554-1765625400-1765629000@diaridelmaestrat.com
SUMMARY:Vinaròs - Tertúlia Literària Les Ones "Et vaig donar els ulls i vas mirar les tenebres. Irene Sola"
DESCRIPTION:Presenta: Fran Jaraba.
URL:https://diaridelmaestrat.com/agenda/vinaros-tertulia-literaria-les-ones-et-vaig-donar-els-ulls-i-vas-mirar-les-tenebres-irene-sola/
LOCATION:Biblioteca de Vinaròs
CATEGORIES:Tertulia Literaria,VINARÒS
END:VEVENT
BEGIN:VEVENT
DTSTART;TZID=Europe/Helsinki:20251213T190000
DTEND;TZID=Europe/Helsinki:20251213T200000
DTSTAMP:20260421T182739
CREATED:20251117T110040Z
LAST-MODIFIED:20251117T110040Z
UID:451556-1765652400-1765656000@diaridelmaestrat.com
SUMMARY:Vinaròs - Concert de Nadal de la Rondalla Vinarossenca Mar i Terra
DESCRIPTION:
URL:https://diaridelmaestrat.com/agenda/vinaros-concert-de-nadal-de-la-rondalla-vinarossenca-mar-i-terra-2/
LOCATION:Auditori Municipal Wenceslao Ayguals de Izco\, Plaça de Sant Agustí\, 7\, 12500 Vinaròs\, Vinaròs\, Castellón\, 12500\, España
CATEGORIES:Concerts,VINARÒS
END:VEVENT
BEGIN:VEVENT
DTSTART;TZID=Europe/Helsinki:20251214T200000
DTEND;TZID=Europe/Helsinki:20251214T210000
DTSTAMP:20260421T182739
CREATED:20251117T110138Z
LAST-MODIFIED:20251117T110138Z
UID:451558-1765742400-1765746000@diaridelmaestrat.com
SUMMARY:Vinaròs - III Festival de Jazz d'ESMUVI
DESCRIPTION:
URL:https://diaridelmaestrat.com/agenda/vinaros-iii-festival-de-jazz-desmuvi/
LOCATION:Auditori Municipal Wenceslao Ayguals de Izco\, Plaça de Sant Agustí\, 7\, 12500 Vinaròs\, Vinaròs\, Castellón\, 12500\, España
CATEGORIES:Concerts,VINARÒS
END:VEVENT
BEGIN:VEVENT
DTSTART;TZID=Europe/Helsinki:20251219T183000
DTEND;TZID=Europe/Helsinki:20251219T193000
DTSTAMP:20260421T182739
CREATED:20251117T110257Z
LAST-MODIFIED:20251117T110257Z
UID:451560-1766169000-1766172600@diaridelmaestrat.com
SUMMARY:Vinaròs - Club de Lectura Les Ones
DESCRIPTION:“El viatge dels novençans”\, de Manel Ollé
URL:https://diaridelmaestrat.com/agenda/vinaros-club-de-lectura-les-ones-3/
LOCATION:Biblioteca de Vinaròs
CATEGORIES:Club de Lectura,VINARÒS
END:VEVENT
BEGIN:VEVENT
DTSTART;TZID=Europe/Helsinki:20251219T200000
DTEND;TZID=Europe/Helsinki:20251219T210000
DTSTAMP:20260421T182739
CREATED:20251117T110358Z
LAST-MODIFIED:20251117T110416Z
UID:451562-1766174400-1766178000@diaridelmaestrat.com
SUMMARY:Vinaròs - Concert de la Big Band de l'UJI
DESCRIPTION:
URL:https://diaridelmaestrat.com/agenda/vinaros-big-band-de-luji/
LOCATION:Auditori Municipal Wenceslao Ayguals de Izco\, Plaça de Sant Agustí\, 7\, 12500 Vinaròs\, Vinaròs\, Castellón\, 12500\, España
CATEGORIES:Concerts,VINARÒS
END:VEVENT
BEGIN:VEVENT
DTSTART;TZID=Europe/Helsinki:20251220T193000
DTEND;TZID=Europe/Helsinki:20251220T210000
DTSTAMP:20260421T182739
CREATED:20251117T110556Z
LAST-MODIFIED:20251117T110556Z
UID:451566-1766259000-1766264400@diaridelmaestrat.com
SUMMARY:Vinaròs - Concert de Nadal de l'Orfeó Vinarossenc\, cor d'ESMUVI i Coral Sant Sebastià
DESCRIPTION:
URL:https://diaridelmaestrat.com/agenda/vinaros-concert-de-nadal-de-lorfeo-vinarossenc-cor-desmuvi-i-coral-sant-sebastia/
LOCATION:Auditori Municipal Wenceslao Ayguals de Izco\, Plaça de Sant Agustí\, 7\, 12500 Vinaròs\, Vinaròs\, Castellón\, 12500\, España
CATEGORIES:Concerts,VINARÒS
END:VEVENT
BEGIN:VEVENT
DTSTART;TZID=Europe/Helsinki:20251221T200000
DTEND;TZID=Europe/Helsinki:20251221T210000
DTSTAMP:20260421T182739
CREATED:20251117T110726Z
LAST-MODIFIED:20251117T110726Z
UID:451568-1766347200-1766350800@diaridelmaestrat.com
SUMMARY:Vinaròs - Concert de Nadal de la Banda S.M "La Alianza"
DESCRIPTION:
URL:https://diaridelmaestrat.com/agenda/vinaros-concert-de-nadal-de-la-banda-s-m-la-alianza/
LOCATION:Auditori Municipal Wenceslao Ayguals de Izco\, Plaça de Sant Agustí\, 7\, 12500 Vinaròs\, Vinaròs\, Castellón\, 12500\, España
CATEGORIES:Concerts,VINARÒS
END:VEVENT
BEGIN:VEVENT
DTSTART;VALUE=DATE:20251223
DTEND;VALUE=DATE:20251224
DTSTAMP:20260421T182739
CREATED:20251117T111010Z
LAST-MODIFIED:20251117T111010Z
UID:451570-1766448000-1766534399@diaridelmaestrat.com
SUMMARY:Vinaròs - Representació de "El Petit Príncep"
DESCRIPTION:Hora: \n\n1a sessió: 12.00 h.\n 2a sessió: 18.00 h.\n3a sessió: 19.00 h.\n\nEn aquesta mostra de dansa\, música i poesia\, el viatge del Petit Príncep ens recorda l’essència del Nadal: l’amistat\, l’amor i la importància de cuidar allò que estimem. Una aventura poètica i emotiva que ens convida a recuperar la màgia i la certesa que “l’essencial és invisible als ulls”.
URL:https://diaridelmaestrat.com/agenda/vinaros-representacio-de-el-petit-princep/
LOCATION:Castellón
CATEGORIES:Representacions,VINARÒS
END:VEVENT
BEGIN:VEVENT
DTSTART;TZID=Europe/Helsinki:20251227T200000
DTEND;TZID=Europe/Helsinki:20251227T210000
DTSTAMP:20260421T182739
CREATED:20251117T111350Z
LAST-MODIFIED:20251117T111350Z
UID:451572-1766865600-1766869200@diaridelmaestrat.com
SUMMARY:Vinaròs - Concert de Nadal de la Coral Garcia Julbe
DESCRIPTION:
URL:https://diaridelmaestrat.com/agenda/vinaros-concert-de-nadal-de-la-coral-garcia-julbe-2/
LOCATION:Auditori Municipal Wenceslao Ayguals de Izco\, Plaça de Sant Agustí\, 7\, 12500 Vinaròs\, Vinaròs\, Castellón\, 12500\, España
CATEGORIES:VINARÒS
END:VEVENT
END:VCALENDAR